BEGIN:VCALENDAR
VERSION:2.0
PRODID:-//Archdiocese of Cincinnati - ECPv6.15.15//NONSGML v1.0//EN
CALSCALE:GREGORIAN
METHOD:PUBLISH
X-WR-CALNAME:Archdiocese of Cincinnati
X-ORIGINAL-URL:https://resources.catholicaoc.org
X-WR-CALDESC:Events for Archdiocese of Cincinnati
REFRESH-INTERVAL;VALUE=DURATION:PT1H
X-Robots-Tag:noindex
X-PUBLISHED-TTL:PT1H
BEGIN:VTIMEZONE
TZID:UTC
BEGIN:STANDARD
TZOFFSETFROM:+0000
TZOFFSETTO:+0000
TZNAME:UTC
DTSTART:20250101T000000
END:STANDARD
END:VTIMEZONE
BEGIN:VEVENT
DTSTART;TZID=UTC:20260416T183000
DTEND;TZID=UTC:20260416T203000
DTSTAMP:20260422T181456
CREATED:20250714T132610Z
LAST-MODIFIED:20250714T132658Z
UID:93813-1776364200-1776371400@resources.catholicaoc.org
SUMMARY:Dayton PIE YA Group
DESCRIPTION:
URL:https://resources.catholicaoc.org/event/dayton-pie-ya-group/2026-04-16
LOCATION:Our Lady of the Rosary\, 22 Notre Dame Avenue\, Dayton\, OH\, 45404\, United States
CATEGORIES:Office for Persons with Disabilities
ATTACH;FMTTYPE=image/jpeg:https://resources.catholicaoc.org/wp-content/uploads/2025/07/PIE.jpg
GEO:39.7758707;-84.1719573
X-APPLE-STRUCTURED-LOCATION;VALUE=URI;X-ADDRESS=Our Lady of the Rosary 22 Notre Dame Avenue Dayton OH 45404 United States;X-APPLE-RADIUS=500;X-TITLE=22 Notre Dame Avenue:geo:-84.1719573,39.7758707
END:VEVENT
END:VCALENDAR