BEGIN:VCALENDAR
VERSION:2.0
PRODID:-//Archdiocese of Cincinnati - ECPv6.15.15//NONSGML v1.0//EN
CALSCALE:GREGORIAN
METHOD:PUBLISH
X-WR-CALNAME:Archdiocese of Cincinnati
X-ORIGINAL-URL:https://resources.catholicaoc.org
X-WR-CALDESC:Events for Archdiocese of Cincinnati
REFRESH-INTERVAL;VALUE=DURATION:PT1H
X-Robots-Tag:noindex
X-PUBLISHED-TTL:PT1H
BEGIN:VTIMEZONE
TZID:UTC
BEGIN:STANDARD
TZOFFSETFROM:+0000
TZOFFSETTO:+0000
TZNAME:UTC
DTSTART:20250101T000000
END:STANDARD
END:VTIMEZONE
BEGIN:VEVENT
DTSTART;VALUE=DATE:20260417
DTEND;VALUE=DATE:20260420
DTSTAMP:20260419T134554
CREATED:20260126T153726Z
LAST-MODIFIED:20260206T151338Z
UID:102449-1776384000-1776643199@resources.catholicaoc.org
SUMMARY:Welcome Weekend - Vocations
DESCRIPTION:Experience Seminary Life at Welcome Weekend\nMt. St. Mary’s Seminary & School of Theology\n6616 Beechmont Avenue\, Cincinnati\, OH \nJoin us for Welcome Weekend on April 17-19\, 2026\, an inspiring opportunity for single men (ages 18-35) within the archdiocese to explore seminary life. This special event offers a firsthand look at the prayer\, study and fraternity that define life at Mt. St. Mary’s Seminary. \nSchedule: \n\nStart: Friday\, April 17\, beginning at 4:30 p.m.\nEnd: Sunday\, April 19\, concluding in the morning.\n\nIf you are interested in exploring this opportunity or have any questions\, please contact Fr. Michael Willig at mwillig@catholicaoc.org.
URL:https://resources.catholicaoc.org/event/welcome-weekend
LOCATION:Mt. St. Mary’s Seminary\, 6616 Beechmont Ave.\, Cincinnati\, OH\, 45230\, United States
CATEGORIES:Vocations,Welcome Weekend
ATTACH;FMTTYPE=image/jpeg:https://resources.catholicaoc.org/wp-content/uploads/2026/01/seminary-img.jpg
ORGANIZER;CN="Fr. Michael Willig":MAILTO:vocations@catholicaoc.org
GEO:39.0829791;-84.3718985
X-APPLE-STRUCTURED-LOCATION;VALUE=URI;X-ADDRESS=Mt. St. Mary’s Seminary 6616 Beechmont Ave. Cincinnati OH 45230 United States;X-APPLE-RADIUS=500;X-TITLE=6616 Beechmont Ave.:geo:-84.3718985,39.0829791
END:VEVENT
BEGIN:VEVENT
DTSTART;TZID=UTC:20260417T090000
DTEND;TZID=UTC:20260417T120000
DTSTAMP:20260419T134554
CREATED:20260217T185127Z
LAST-MODIFIED:20260306T202519Z
UID:103942-1776416400-1776427200@resources.catholicaoc.org
SUMMARY:Science Teachers – 7th and 8th Grade Collaboration – April 17th
DESCRIPTION:Interested in talking with colleagues from other schools who teach 7th and 8thth grade Science? \n\nDid you know there are pacing guides\, common assessments\, classroom lessons and activities and so much more created to support the science standards in the GCS? Let’s get together to create connections\, share ideas and collaborate on resources. This collaboration will be led by the Science teachers who have participated in the Science CLT and will be driven by teacher needs/wants/questions. \n\nTeachers will walk away with ready to use lessons and activities. CEU’s will be provided. \n\nPlease join us for this FREE session at HCESC from 9:00am-12:00pm.\n\nCLICK HERE to RSVP\n 
URL:https://resources.catholicaoc.org/event/science-teachers-7th-and-8th-grade-collaboration-save-the-date-april-16th
LOCATION:Hamilton County ESC\, OH
CATEGORIES:Catholic Schools Office
ORGANIZER;CN="Krista Devine":MAILTO:kdevine@catholicaoc.org
GEO:39.2801727;-84.5650475
END:VEVENT
BEGIN:VEVENT
DTSTART;TZID=UTC:20260417T090000
DTEND;TZID=UTC:20260417T120000
DTSTAMP:20260419T134554
CREATED:20260330T200734Z
LAST-MODIFIED:20260330T200734Z
UID:106311-1776416400-1776427200@resources.catholicaoc.org
SUMMARY:Science Teachers – 7th and 8th Grade Collaboration
DESCRIPTION:Interested in talking with colleagues from other schools who teach 7th and 8th grade Science? Did you know there are pacing guides\, common assessments\, classroom lessons and activities and so much more created to support the science standards in the GCS? Let’s get together to create connections\, share ideas and collaborate on resources. This collaboration will be led by the Science teachers who have participated in the Science Curriculum Leadership Team and will be driven by teacher needs/wants/questions. Teachers will walk away with ready to use lessons and activities. CEU’s will be provided. \nPlease join us for this FREE session at HCESC from 9:00-12:00pm. \nCLICK HERE to RSVP
URL:https://resources.catholicaoc.org/event/science-teachers-7th-and-8th-grade-collaboration
LOCATION:Educational Service Center of Central Ohio\, 2080 Citygate Drive\, Columbus\, OH\, 43219\, United States
CATEGORIES:Catholic Schools Office
ORGANIZER;CN="Krista Devine":MAILTO:kdevine@catholicaoc.org
GEO:40.0136768;-82.9144792
X-APPLE-STRUCTURED-LOCATION;VALUE=URI;X-ADDRESS=Educational Service Center of Central Ohio 2080 Citygate Drive Columbus OH 43219 United States;X-APPLE-RADIUS=500;X-TITLE=2080 Citygate Drive:geo:-82.9144792,40.0136768
END:VEVENT
END:VCALENDAR