BEGIN:VCALENDAR
VERSION:2.0
PRODID:-//Archdiocese of Cincinnati - ECPv6.15.15//NONSGML v1.0//EN
CALSCALE:GREGORIAN
METHOD:PUBLISH
X-ORIGINAL-URL:https://resources.catholicaoc.org
X-WR-CALDESC:Events for Archdiocese of Cincinnati
REFRESH-INTERVAL;VALUE=DURATION:PT1H
X-Robots-Tag:noindex
X-PUBLISHED-TTL:PT1H
BEGIN:VTIMEZONE
TZID:UTC
BEGIN:STANDARD
TZOFFSETFROM:+0000
TZOFFSETTO:+0000
TZNAME:UTC
DTSTART:20220101T000000
END:STANDARD
END:VTIMEZONE
BEGIN:VEVENT
DTSTART;TZID=UTC:20230109T123000
DTEND;TZID=UTC:20230109T133000
DTSTAMP:20260423T194540
CREATED:20230106T185757Z
LAST-MODIFIED:20230106T185757Z
UID:51407-1673267400-1673271000@resources.catholicaoc.org
SUMMARY:How Scaffolding Works
DESCRIPTION:Scaffolding student learning has the potential to move learning forward in a significant way. For many of us\, this is easier said than done. What is scaffolding\, when do we scaffold learning\, who needs scaffolding\, and how long should we scaffold? In this webinar\, Doug Fisher\, Nancy Frey\, and John Almarode will break down the latest research on how we support student learning and\, most importantly\, how scaffolding works. \nAt the end of this webinar\, participants will be able to: \n\ndescribe what is meant by scaffolding\nexplain the essential aspects of scaffolded learning\n\nIdentify the what\, when\, who\, and how of scaffolding. \n  \nREGISTER
URL:https://resources.catholicaoc.org/event/how-scaffolding-works
LOCATION:Zoom
CATEGORIES:Catholic Schools Office
END:VEVENT
BEGIN:VEVENT
DTSTART;TZID=UTC:20230118T080000
DTEND;TZID=UTC:20230120T170000
DTSTAMP:20260423T194540
CREATED:20220825T183319Z
LAST-MODIFIED:20220825T183319Z
UID:47141-1674028800-1674234000@resources.catholicaoc.org
SUMMARY:Intervene with purpose
DESCRIPTION:The Summit on RTI at Work™\nAustin\, Texas | January 18–20\, 2023\n\n\n\n\n\n\n\n\n\n\nResponse to intervention (RTI/MTSS) is proven to be the best way to systematically respond when students don’t learn. \nAt the Summit on RTI at Work™\, you will gain a set of powerful intervention tools brought to you by leaders in the field\, such as Luis F. Cruz\, Nicole Dimich\, Mike Mattos\, and Douglas Reeves. \n\nPrepare new and veteran teachers alike to support students who have fallen behind.\nAcquire practical solutions to current roadblocks and challenges that your school is facing.\nForge team bonds and comradery as you work to craft an intentional intervention plan that explicitly articulates actionable steps.\nDevelop a culturally responsive plan for English learners and underserved students.\nBuild a schoolwide intervention team to address complex issues such as motivation\, attendance\, and behavior.\n\n\n\n\n\n\n\n\n\n\n\n\n\n\n\n\n    Register today »    
URL:https://resources.catholicaoc.org/event/intervene-with-purpose
LOCATION:Zoom
CATEGORIES:Catholic Schools Office
END:VEVENT
BEGIN:VEVENT
DTSTART;TZID=UTC:20230119T083000
DTEND;TZID=UTC:20230119T153000
DTSTAMP:20260423T194540
CREATED:20220829T181340Z
LAST-MODIFIED:20220829T181340Z
UID:47275-1674117000-1674142200@resources.catholicaoc.org
SUMMARY:Increasing Student Ownership
DESCRIPTION:According to the extensive research of Dr. John Hattie\, Student Ownership can more than double the impact of student learning. Did you know that student ownership can even be taught and provided  to students at the PK or K level?  Participants will examine the research\, and develop ways to incorporate Student Ownership in their classroom by involving students in goal setting\, tracking their own learning\, and assessing their progress.  \nObjectives: \n\nExamine the research and components of Student Ownership\nCreate a plan to incorporate student ownership into their classroom\nExamine models and key practices of goal setting\, tracking student learning\, and student self- assessment\n\nREGISTER
URL:https://resources.catholicaoc.org/event/increasing-student-ownership
LOCATION:Hamilton County ESC\, OH
CATEGORIES:Catholic Schools Office
GEO:39.2801727;-84.5650475
END:VEVENT
BEGIN:VEVENT
DTSTART;TZID=UTC:20230120T083000
DTEND;TZID=UTC:20230120T153000
DTSTAMP:20260423T194540
CREATED:20220825T190037Z
LAST-MODIFIED:20220825T190037Z
UID:47156-1674203400-1674228600@resources.catholicaoc.org
SUMMARY:Social Studies Curriculum Leadership Team
DESCRIPTION:
URL:https://resources.catholicaoc.org/event/social-studies-curriculum-leadership-team-4
LOCATION:Immaculate Heart of Mary School\, 7800 Beechmomt Avenue\, Cincinnati\, OH\, 45255\, United States
CATEGORIES:Catholic Schools Office
GEO:39.0749872;-84.3397027
X-APPLE-STRUCTURED-LOCATION;VALUE=URI;X-ADDRESS=Immaculate Heart of Mary School 7800 Beechmomt Avenue Cincinnati OH 45255 United States;X-APPLE-RADIUS=500;X-TITLE=7800 Beechmomt Avenue:geo:-84.3397027,39.0749872
END:VEVENT
BEGIN:VEVENT
DTSTART;TZID=UTC:20230121T090000
DTEND;TZID=UTC:20230121T100000
DTSTAMP:20260423T194540
CREATED:20230113T202415Z
LAST-MODIFIED:20230113T202415Z
UID:51668-1674291600-1674295200@resources.catholicaoc.org
SUMMARY:Off the Pod with Susan Lambert and Dusty and Dott from Reading Buddies
DESCRIPTION:Grab your coffee and kick off your Saturday morning with me and the stars of “Reading Buddies\,” Dusty & Dott\, for a 45-minute virtual event (pajamas definitely welcome). I’ll be chatting with them about the show\, and you’ll have the exclusive opportunity to ask Dusty & Dott all the questions you’ve been wanting to ask them. Be sure to share this event with your students\, too!\n\n\n\n\n\n\n\n\n\n\n\n\n\n\n\n\n\n\n\n\n\nOff the Pod with Susan\, Dusty\, and Dott\nSaturday\, Jan. 21\, 2023\n9 a.m. EST\n\n\n\n\n\n\n\n\n\n\nRegister now\n\n\n\n\n\n\n\n\n\n\n\n\n\n\n\n\n\n\n\n\n\n\n\n\n\n\nThe event will be hosted in our Science of Reading Facebook community. We welcome you to join the more than 85\,000 educators in this community who are giving their all to bring the best\, research-based literacy instruction to their students every day. \nJoin the community and don’t miss this exclusive conversation with Dusty & Dott! \nCan’t wait to see you\,
URL:https://resources.catholicaoc.org/event/off-the-pod-with-susan-lambert-and-dusty-and-dott-from-reading-buddies
LOCATION:Zoom
CATEGORIES:Catholic Schools Office
END:VEVENT
BEGIN:VEVENT
DTSTART;TZID=UTC:20230124T150000
DTEND;TZID=UTC:20230124T160000
DTSTAMP:20260423T194540
CREATED:20230123T151528Z
LAST-MODIFIED:20230123T151528Z
UID:51856-1674572400-1674576000@resources.catholicaoc.org
SUMMARY:Teach Happier:  Small Shifts\, Big Gifts
DESCRIPTION:Teach Happier: Small Shifts\, Big Gifts \nIn this interactive session\, presented by author Suzanne Dailey\, you will learn realistic and proactive strategies based in positive psychology that will help you achieve work/life satisfaction as you navigate this unique time of teaching and leading. We’ll unpack some fundamental understandings and then dig deeper to explore small shifts in thoughts\, language\, and actions. These small and manageable shifts\, practiced over time\, will help you teach happier\, parent happier\, partner happier\, work happier\, and increase your overall happiness and well-being. \nAbout the presenter: \nSuzanne Dailey is an instructional coach in the Central Bucks School District in Pennsylvania\, where she has the honor and joy of working with more than 600 elementary teachers and 9\,000 students. She teaches model lessons\, facilitates professional development sessions\, and mentors teachers to be the best for the students in front of them.\nSuzanne is the author of the ASCD book Teach Happier This School Year: 40 Weeks of Inspiration and Reflection and hosts the popular weekly podcast Teach Happier.\n\n\n\n\nRegister Now
URL:https://resources.catholicaoc.org/event/teach-happier-small-shifts-big-gifts
LOCATION:Zoom
CATEGORIES:Catholic Schools Office
END:VEVENT
BEGIN:VEVENT
DTSTART;TZID=UTC:20230124T183000
DTEND;TZID=UTC:20230124T200000
DTSTAMP:20260423T194540
CREATED:20230103T143218Z
LAST-MODIFIED:20230103T143218Z
UID:51149-1674585000-1674590400@resources.catholicaoc.org
SUMMARY:Cultivating Collective Efficacy in  Title I Schools
DESCRIPTION:What You Will Learn:\n\nHow to lead with a “spirit of reciprocity” and build an instructional leadership team that can cultivate collective efficacy.\nHow to move out of the “blame game” so educators can clear the way for what is possible in a Title I school.\nHow to scaffold professional learning using staff-led immersive learning sessions\, PLCs and instructional coaching so educators have the “success experiences” needed to develop collective efficacy.\nHow to use the science of improvement to strengthen school improvement processes so they actually disrupt the adverse impact of poverty on learning.\n\n\n\n\n\n\n\n\nRegister Now \n\n\n\n\n\n\n\n\n\n\n\n\n\n\n\n 
URL:https://resources.catholicaoc.org/event/cultivating-collective-efficacy-in-title-i-schools
LOCATION:Zoom
CATEGORIES:Catholic Schools Office
END:VEVENT
END:VCALENDAR