BEGIN:VCALENDAR
VERSION:2.0
PRODID:-//Archdiocese of Cincinnati - ECPv6.15.15//NONSGML v1.0//EN
CALSCALE:GREGORIAN
METHOD:PUBLISH
X-WR-CALNAME:Archdiocese of Cincinnati
X-ORIGINAL-URL:https://resources.catholicaoc.org
X-WR-CALDESC:Events for Archdiocese of Cincinnati
REFRESH-INTERVAL;VALUE=DURATION:PT1H
X-Robots-Tag:noindex
X-PUBLISHED-TTL:PT1H
BEGIN:VTIMEZONE
TZID:UTC
BEGIN:STANDARD
TZOFFSETFROM:+0000
TZOFFSETTO:+0000
TZNAME:UTC
DTSTART:20250101T000000
END:STANDARD
END:VTIMEZONE
BEGIN:VEVENT
DTSTART;TZID=UTC:20260806T083000
DTEND;TZID=UTC:20260806T150000
DTSTAMP:20260423T211303
CREATED:20260126T154218Z
LAST-MODIFIED:20260126T154640Z
UID:102452-1786005000-1786028400@resources.catholicaoc.org
SUMMARY:New Teacher Orientation
DESCRIPTION:This session will equip new teachers or teachers who are new to the Archdiocese of Cincinnati with information on the Graded Course of Study. \n  \nThe session will take place in the Northern area of the AOC.
URL:https://resources.catholicaoc.org/event/new-teacher-orientation-2
CATEGORIES:Catholic Schools Office
ORGANIZER;CN="Krista Devine":MAILTO:kdevine@catholicaoc.org
END:VEVENT
BEGIN:VEVENT
DTSTART;TZID=UTC:20260806T083000
DTEND;TZID=UTC:20260806T150000
DTSTAMP:20260423T211303
CREATED:20260413T153539Z
LAST-MODIFIED:20260413T153539Z
UID:106758-1786005000-1786028400@resources.catholicaoc.org
SUMMARY:New Teacher Orientation
DESCRIPTION:Curriculum/Assessment/GCS and Servants of Hope Introduction\nThe morning will focus on Standards Based Teaching and Learning\, the Graded Course of Study and the resources available to support teachers in the area of Curriculum and Assessment Archdiocese of Cincinnati. Luch will be provided. After lunch\, teachers will be given an introduction to the AOC’s Servants of Hope program. \nNew Teacher Orientation will be offered at 3 different locations to meet the needs of all schools in the Archdiocese of Cincinnati. Teachers can attend a session at any of the locations.\nLocations:\nAugust 6th – Immaculate Conception Celina 229 W Anthony St\, Celina\, OH 45822\nAugust 10th – Dayton location – TBD \nAugust 11th – Hamilton County ESC  11083 Hamilton Ave\, Cincinnati\, OH 45231 \nAll sessions will be 8:30am-3:00pm\n  \nCLICK HERE to RSVP.
URL:https://resources.catholicaoc.org/event/new-teacher-orientation-3
LOCATION:Immaculate Concpetion\, Celina\, 200 West Wayne Street\, Celina\, OH\, 45822\, United States
CATEGORIES:Catholic Schools Office
ORGANIZER;CN="Krista Devine":MAILTO:kdevine@catholicaoc.org
GEO:40.552845;-84.5719173
X-APPLE-STRUCTURED-LOCATION;VALUE=URI;X-ADDRESS=Immaculate Concpetion Celina 200 West Wayne Street Celina OH 45822 United States;X-APPLE-RADIUS=500;X-TITLE=200 West Wayne Street:geo:-84.5719173,40.552845
END:VEVENT
BEGIN:VEVENT
DTSTART;TZID=UTC:20260806T090000
DTEND;TZID=UTC:20260806T150000
DTSTAMP:20260423T211303
CREATED:20260209T140710Z
LAST-MODIFIED:20260209T140710Z
UID:103586-1786006800-1786028400@resources.catholicaoc.org
SUMMARY:Common Professional Learning Day - Northern Schools
DESCRIPTION:
URL:https://resources.catholicaoc.org/event/common-professional-learning-day-northern-schools
CATEGORIES:Catholic Schools Office
ORGANIZER;CN="Krista Devine":MAILTO:kdevine@catholicaoc.org
END:VEVENT
BEGIN:VEVENT
DTSTART;TZID=UTC:20260810T083000
DTEND;TZID=UTC:20260810T153000
DTSTAMP:20260423T211303
CREATED:20260413T153647Z
LAST-MODIFIED:20260413T153647Z
UID:106760-1786350600-1786375800@resources.catholicaoc.org
SUMMARY:New Teacher Orientation
DESCRIPTION:Curriculum/Assessment/GCS and Servants of Hope Introduction\nThe morning will focus on Standards Based Teaching and Learning\, the Graded Course of Study and the resources available to support teachers in the area of Curriculum and Assessment Archdiocese of Cincinnati. Luch will be provided. After lunch\, teachers will be given an introduction to the AOC’s Servants of Hope program. \nNew Teacher Orientation will be offered at 3 different locations to meet the needs of all schools in the Archdiocese of Cincinnati. Teachers can attend a session at any of the locations.\nLocations:\nAugust 6th – Immaculate Conception Celina 229 W Anthony St\, Celina\, OH 45822\nAugust 10th – Dayton location – TBD \nAugust 11th – Hamilton County ESC  11083 Hamilton Ave\, Cincinnati\, OH 45231 \nAll sessions will be 8:30am-3:00pm\n  \nCLICK HERE to RSVP.
URL:https://resources.catholicaoc.org/event/new-teacher-orientation-4
CATEGORIES:Catholic Schools Office
ORGANIZER;CN="Krista Devine":MAILTO:kdevine@catholicaoc.org
END:VEVENT
BEGIN:VEVENT
DTSTART;TZID=UTC:20260810T090000
DTEND;TZID=UTC:20260810T150000
DTSTAMP:20260423T211303
CREATED:20260209T140838Z
LAST-MODIFIED:20260209T140838Z
UID:103588-1786352400-1786374000@resources.catholicaoc.org
SUMMARY:Common Professional Learning Day - Dayton Schools
DESCRIPTION:
URL:https://resources.catholicaoc.org/event/common-professional-learning-day-dayton-schools
CATEGORIES:Catholic Schools Office
ORGANIZER;CN="Krista Devine":MAILTO:kdevine@catholicaoc.org
END:VEVENT
BEGIN:VEVENT
DTSTART;TZID=UTC:20260811T083000
DTEND;TZID=UTC:20260811T150000
DTSTAMP:20260423T211303
CREATED:20260413T153805Z
LAST-MODIFIED:20260413T153805Z
UID:106762-1786437000-1786460400@resources.catholicaoc.org
SUMMARY:New Teacher Orientation
DESCRIPTION:Curriculum/Assessment/GCS and Servants of Hope Introduction\nThe morning will focus on Standards Based Teaching and Learning\, the Graded Course of Study and the resources available to support teachers in the area of Curriculum and Assessment Archdiocese of Cincinnati. Luch will be provided. After lunch\, teachers will be given an introduction to the AOC’s Servants of Hope program. \nNew Teacher Orientation will be offered at 3 different locations to meet the needs of all schools in the Archdiocese of Cincinnati. Teachers can attend a session at any of the locations.\nLocations:\nAugust 6th – Immaculate Conception Celina 229 W Anthony St\, Celina\, OH 45822\nAugust 10th – Dayton location – TBD \nAugust 11th – Hamilton County ESC  11083 Hamilton Ave\, Cincinnati\, OH 45231 \nAll sessions will be 8:30am-3:00pm\n  \nCLICK HERE to RSVP.
URL:https://resources.catholicaoc.org/event/new-teacher-orientation-5
LOCATION:Hamilton County ESC\, OH
CATEGORIES:Catholic Schools Office
ORGANIZER;CN="Krista Devine":MAILTO:kdevine@catholicaoc.org
GEO:39.2801727;-84.5650475
END:VEVENT
BEGIN:VEVENT
DTSTART;TZID=UTC:20260811T090000
DTEND;TZID=UTC:20260811T150000
DTSTAMP:20260423T211303
CREATED:20260209T140945Z
LAST-MODIFIED:20260209T140945Z
UID:103590-1786438800-1786460400@resources.catholicaoc.org
SUMMARY:Common Professional Learning Day - Cincinnati Schools
DESCRIPTION:
URL:https://resources.catholicaoc.org/event/common-professional-learning-day-cincinnati-schools
CATEGORIES:Catholic Schools Office
ORGANIZER;CN="Krista Devine":MAILTO:kdevine@catholicaoc.org
END:VEVENT
BEGIN:VEVENT
DTSTART;TZID=UTC:20260812T090000
DTEND;TZID=UTC:20260812T150000
DTSTAMP:20260423T211303
CREATED:20260209T141101Z
LAST-MODIFIED:20260218T195756Z
UID:103592-1786525200-1786546800@resources.catholicaoc.org
SUMMARY:Curriculum and Instruction Professional Learning and Leadership - Cincinnati Schools
DESCRIPTION:  \n  \nCLICK HERE to RSVP.
URL:https://resources.catholicaoc.org/event/curriculum-and-instruction-professional-learning-and-leadership-cincinnati-schools
CATEGORIES:Catholic Schools Office
ORGANIZER;CN="Krista Devine":MAILTO:kdevine@catholicaoc.org
END:VEVENT
BEGIN:VEVENT
DTSTART;TZID=UTC:20260813T090000
DTEND;TZID=UTC:20260813T150000
DTSTAMP:20260423T211303
CREATED:20260209T141200Z
LAST-MODIFIED:20260218T195944Z
UID:103594-1786611600-1786633200@resources.catholicaoc.org
SUMMARY:Curriculum and Instruction Professional Learning and Leadership - Dayton Schools
DESCRIPTION:CLICK HERE to RSVP.
URL:https://resources.catholicaoc.org/event/curriculum-and-instruction-professional-learning-and-leadership-dayton-schools
CATEGORIES:Catholic Schools Office
ORGANIZER;CN="Krista Devine":MAILTO:kdevine@catholicaoc.org
END:VEVENT
BEGIN:VEVENT
DTSTART;TZID=UTC:20260814T090000
DTEND;TZID=UTC:20260814T150000
DTSTAMP:20260423T211303
CREATED:20260209T141312Z
LAST-MODIFIED:20260218T200051Z
UID:103596-1786698000-1786719600@resources.catholicaoc.org
SUMMARY:Curriculum and Instruction Professional Learning and Leadership - Northern Schools
DESCRIPTION:CLICK HERE to RSVP.
URL:https://resources.catholicaoc.org/event/curriculum-and-instruction-professional-learning-and-leadership-northern-schools
CATEGORIES:Catholic Schools Office
ORGANIZER;CN="Krista Devine":MAILTO:kdevine@catholicaoc.org
END:VEVENT
BEGIN:VEVENT
DTSTART;TZID=UTC:20260820T090000
DTEND;TZID=UTC:20260820T150000
DTSTAMP:20260423T211303
CREATED:20260205T191231Z
LAST-MODIFIED:20260205T191231Z
UID:103504-1787216400-1787238000@resources.catholicaoc.org
SUMMARY:2026-2027 Preschool Directors and Lead Teachers Professional Learning Cohort
DESCRIPTION:
URL:https://resources.catholicaoc.org/event/2026-2027-preschool-directors-and-lead-teachers-professional-learning-cohort
CATEGORIES:Catholic Schools Office
ORGANIZER;CN="Krista Devine":MAILTO:kdevine@catholicaoc.org
END:VEVENT
BEGIN:VEVENT
DTSTART;TZID=UTC:20260820T090000
DTEND;TZID=UTC:20260820T150000
DTSTAMP:20260423T211303
CREATED:20260209T141510Z
LAST-MODIFIED:20260209T141510Z
UID:103598-1787216400-1787238000@resources.catholicaoc.org
SUMMARY:Preschool Professional Learning Day and Collaboration
DESCRIPTION:
URL:https://resources.catholicaoc.org/event/preschool-professional-learning-day-and-collaboration
CATEGORIES:Catholic Schools Office
ORGANIZER;CN="Krista Devine":MAILTO:kdevine@catholicaoc.org
END:VEVENT
BEGIN:VEVENT
DTSTART;TZID=UTC:20260825T090000
DTEND;TZID=UTC:20260825T150000
DTSTAMP:20260423T211303
CREATED:20260205T191335Z
LAST-MODIFIED:20260205T191335Z
UID:103506-1787648400-1787670000@resources.catholicaoc.org
SUMMARY:2026-2027 Preschool Directors and Lead Teachers Professional Learning Cohort
DESCRIPTION:
URL:https://resources.catholicaoc.org/event/2026-2027-preschool-directors-and-lead-teachers-professional-learning-cohort-2
CATEGORIES:Catholic Schools Office
ORGANIZER;CN="Krista Devine":MAILTO:kdevine@catholicaoc.org
END:VEVENT
BEGIN:VEVENT
DTSTART;TZID=UTC:20260825T090000
DTEND;TZID=UTC:20260825T150000
DTSTAMP:20260423T211303
CREATED:20260209T141603Z
LAST-MODIFIED:20260209T141603Z
UID:103600-1787648400-1787670000@resources.catholicaoc.org
SUMMARY:Preschool Professional Learning Day and Collaboration
DESCRIPTION:
URL:https://resources.catholicaoc.org/event/preschool-professional-learning-day-and-collaboration-2
CATEGORIES:Catholic Schools Office
ORGANIZER;CN="Krista Devine":MAILTO:kdevine@catholicaoc.org
END:VEVENT
END:VCALENDAR