BEGIN:VCALENDAR
VERSION:2.0
PRODID:-//Archdiocese of Cincinnati - ECPv6.15.15//NONSGML v1.0//EN
CALSCALE:GREGORIAN
METHOD:PUBLISH
X-WR-CALNAME:Archdiocese of Cincinnati
X-ORIGINAL-URL:https://resources.catholicaoc.org
X-WR-CALDESC:Events for Archdiocese of Cincinnati
REFRESH-INTERVAL;VALUE=DURATION:PT1H
X-Robots-Tag:noindex
X-PUBLISHED-TTL:PT1H
BEGIN:VTIMEZONE
TZID:UTC
BEGIN:STANDARD
TZOFFSETFROM:+0000
TZOFFSETTO:+0000
TZNAME:UTC
DTSTART:20200101T000000
END:STANDARD
END:VTIMEZONE
BEGIN:VEVENT
DTSTART;TZID=UTC:20210913T080000
DTEND;TZID=UTC:20210913T170000
DTSTAMP:20260422T220453
CREATED:20210901T163443Z
LAST-MODIFIED:20210901T163443Z
UID:32071-1631520000-1631552400@resources.catholicaoc.org
SUMMARY:Balance with Blended Learning
DESCRIPTION:In this self-paced\, online book study based on Catlin Tucker’s book\, Balance with Blended Learning\, you will explore the practical and concrete strategies that she has used over the past decade to rethink the roles\, responsibilities\, and workflow in her own classroom. You will also learn how Tucker has used blended learning to reimagine her teaching by effectively partnering with her students to assess\, track\, and reflect on their learning. Discover how this redefinition of roles encourages students to take ownership of their learning while helping teachers to feel more effective\, efficient\, and energized. \nRegister
URL:https://resources.catholicaoc.org/event/balance-with-blended-learning
LOCATION:Virtual – Receive Link When Registered
CATEGORIES:Catholic Schools Office
END:VEVENT
BEGIN:VEVENT
DTSTART;TZID=UTC:20210913T080000
DTEND;TZID=UTC:20211024T150000
DTSTAMP:20260422T220453
CREATED:20210903T173700Z
LAST-MODIFIED:20210903T173700Z
UID:32162-1631520000-1635087600@resources.catholicaoc.org
SUMMARY:Become a Highly Qualified Teacher
DESCRIPTION:Designed for special education intervention specialists in grades 7-12\, these facilitated\, self-paced courses provide teachers with a flexible and convenient opportunity to accumulate 45 hours of training\, formerly required to meet the designation as Highly Qualified Teacher. \n4 Sessions to Choose From.  Click Here
URL:https://resources.catholicaoc.org/event/become-a-highly-qualified-teacher
CATEGORIES:Catholic Schools Office
END:VEVENT
BEGIN:VEVENT
DTSTART;TZID=UTC:20210913T170000
DTEND;TZID=UTC:20210913T180000
DTSTAMP:20260422T220453
CREATED:20210910T155224Z
LAST-MODIFIED:20210910T155224Z
UID:32627-1631552400-1631556000@resources.catholicaoc.org
SUMMARY:Learning Reimagined:  Leveraging Technology to Meet the Needs of All Students
DESCRIPTION:Presented by Dr. Carol Kelley\, Superintendent\, Princeton Public Schools (NJ); Dr. John Malloy\, Superintendent\, San Ramon Valley Unified School District (CA); and Dr. David Schuler\, Superintendent\, High School District 214 (IL)\nModerated by Ann McMullan\, Project Director\, EmpowerED Superintendent Initiative\, CoSN (Consortium for School Networking) \nSponsored by ClassLink\nThis Webinar series is co-hosted by CoSN\, AASA\, and edWeb.net\nRegister
URL:https://resources.catholicaoc.org/event/learning-reimagined-leveraging-technology-to-meet-the-needs-of-all-students
CATEGORIES:Catholic Schools Office
END:VEVENT
BEGIN:VEVENT
DTSTART;TZID=UTC:20210915T140000
DTEND;TZID=UTC:20210915T150000
DTSTAMP:20260422T220453
CREATED:20210910T155429Z
LAST-MODIFIED:20210910T155429Z
UID:32630-1631714400-1631718000@resources.catholicaoc.org
SUMMARY:Lighting the SEL Fuse for K-12 Learning Growth
DESCRIPTION:Presented by Sara LaHayne\, Founder and CEO\, Move This World; and Dr. Brenda Arteaga\, Director of Multilingual Programs\, Curriculum\, Instruction and Assessment\, Tomball Independent School District (TX)\nModerated by David McGeary\, Solutions Engineer\, D2L\nRegister
URL:https://resources.catholicaoc.org/event/lighting-the-sel-fuse-for-k-12-learning-growth
CATEGORIES:Catholic Schools Office
END:VEVENT
BEGIN:VEVENT
DTSTART;TZID=UTC:20210916T123000
DTEND;TZID=UTC:20210916T150000
DTSTAMP:20260422T220453
CREATED:20210901T162532Z
LAST-MODIFIED:20210901T162532Z
UID:32044-1631795400-1631804400@resources.catholicaoc.org
SUMMARY:What Administrators Need to Know About English Learners
DESCRIPTION:New and experienced administrators are invited to this session to learn about the legal obligations to English Learners\, as well as ways to ensure ELs are fully integrated into the school community. Topics will include identification of ELs\, parent engagement\, access to the curriculum\, assessments\, funding sources and an overview of evidence-based strategies. \nRegister  \nThis will be in person or virtual.
URL:https://resources.catholicaoc.org/event/what-administrators-need-to-know-about-english-learners
LOCATION:Educational Service Center of Central Ohio\, 2080 Citygate Drive\, Columbus\, OH\, 43219\, United States
CATEGORIES:Catholic Schools Office
GEO:40.0136768;-82.9144792
X-APPLE-STRUCTURED-LOCATION;VALUE=URI;X-ADDRESS=Educational Service Center of Central Ohio 2080 Citygate Drive Columbus OH 43219 United States;X-APPLE-RADIUS=500;X-TITLE=2080 Citygate Drive:geo:-82.9144792,40.0136768
END:VEVENT
END:VCALENDAR