BEGIN:VCALENDAR
VERSION:2.0
PRODID:-//Archdiocese of Cincinnati - ECPv6.15.15//NONSGML v1.0//EN
CALSCALE:GREGORIAN
METHOD:PUBLISH
X-WR-CALNAME:Archdiocese of Cincinnati
X-ORIGINAL-URL:https://resources.catholicaoc.org
X-WR-CALDESC:Events for Archdiocese of Cincinnati
REFRESH-INTERVAL;VALUE=DURATION:PT1H
X-Robots-Tag:noindex
X-PUBLISHED-TTL:PT1H
BEGIN:VTIMEZONE
TZID:UTC
BEGIN:STANDARD
TZOFFSETFROM:+0000
TZOFFSETTO:+0000
TZNAME:UTC
DTSTART:20230101T000000
END:STANDARD
END:VTIMEZONE
BEGIN:VEVENT
DTSTART;TZID=UTC:20241118T090000
DTEND;TZID=UTC:20241118T110000
DTSTAMP:20260420T054853
CREATED:20241028T152403Z
LAST-MODIFIED:20241028T152403Z
UID:81967-1731920400-1731927600@resources.catholicaoc.org
SUMMARY:iReady Standards Mastery - Cincinnati - Grades 6-8
DESCRIPTION:Click Here to register.
URL:https://resources.catholicaoc.org/event/iready-standards-mastery-cincinnati-grades-6-8
LOCATION:Hamilton County ESC\, OH
CATEGORIES:Catholic Schools Office
ORGANIZER;CN="Krista Devine":MAILTO:kdevine@catholicaoc.org
GEO:39.2801727;-84.5650475
END:VEVENT
BEGIN:VEVENT
DTSTART;TZID=UTC:20241118T123000
DTEND;TZID=UTC:20241118T143000
DTSTAMP:20260420T054853
CREATED:20241028T152527Z
LAST-MODIFIED:20241028T152527Z
UID:81969-1731933000-1731940200@resources.catholicaoc.org
SUMMARY:iReady Standards Mastery Cincinnati - Grades 2nd-5th
DESCRIPTION:Click Here to register.
URL:https://resources.catholicaoc.org/event/iready-standards-mastery-cincinnati-grades-2nd-5th
LOCATION:Hamilton County ESC\, OH
CATEGORIES:Catholic Schools Office
ORGANIZER;CN="Krista Devine":MAILTO:kdevine@catholicaoc.org
GEO:39.2801727;-84.5650475
END:VEVENT
BEGIN:VEVENT
DTSTART;TZID=UTC:20241119T090000
DTEND;TZID=UTC:20241119T110000
DTSTAMP:20260420T054853
CREATED:20241028T152814Z
LAST-MODIFIED:20241028T152814Z
UID:81971-1732006800-1732014000@resources.catholicaoc.org
SUMMARY:iReady Standards Mastery - Dayton -Grades 6th-8th
DESCRIPTION:Click Here to register.
URL:https://resources.catholicaoc.org/event/iready-standards-mastery-dayton-grades-6th-8th
LOCATION:Ascension School\, 2001 Woodman Drive\, Dayton\, 45420\, United States
CATEGORIES:Catholic Schools Office
ORGANIZER;CN="Krista Devine":MAILTO:kdevine@catholicaoc.org
GEO:39.718193;-84.125081
X-APPLE-STRUCTURED-LOCATION;VALUE=URI;X-ADDRESS=Ascension School 2001 Woodman Drive Dayton 45420 United States;X-APPLE-RADIUS=500;X-TITLE=2001 Woodman Drive:geo:-84.125081,39.718193
END:VEVENT
BEGIN:VEVENT
DTSTART;TZID=UTC:20241119T123000
DTEND;TZID=UTC:20241119T143000
DTSTAMP:20260420T054853
CREATED:20241028T152923Z
LAST-MODIFIED:20241028T152923Z
UID:81974-1732019400-1732026600@resources.catholicaoc.org
SUMMARY:iReady Standards Mastery - Dayton - Grades 2nd-5th
DESCRIPTION:Click Here to register.
URL:https://resources.catholicaoc.org/event/iready-standards-mastery-dayton-grades-2nd-5th
LOCATION:Ascension School\, 2001 Woodman Drive\, Dayton\, 45420\, United States
CATEGORIES:Catholic Schools Office
ORGANIZER;CN="Krista Devine":MAILTO:kdevine@catholicaoc.org
GEO:39.718193;-84.125081
X-APPLE-STRUCTURED-LOCATION;VALUE=URI;X-ADDRESS=Ascension School 2001 Woodman Drive Dayton 45420 United States;X-APPLE-RADIUS=500;X-TITLE=2001 Woodman Drive:geo:-84.125081,39.718193
END:VEVENT
BEGIN:VEVENT
DTSTART;TZID=UTC:20241120T090000
DTEND;TZID=UTC:20241120T113000
DTSTAMP:20260420T054853
CREATED:20241120T193352Z
LAST-MODIFIED:20241120T193352Z
UID:82790-1732093200-1732102200@resources.catholicaoc.org
SUMMARY:iReady Data Leadership Cohort for Principals and Leaders - Dayton Location
DESCRIPTION:Successful i-Ready implementations begin with organized\, engaged\, and reflective leadership. This year’s leadership opportunities include amazing benefits provided through a unique partnership between the Archdiocese of Cincinnati\, Catholic Schools Office and Curriculum Associates. These opportunities will be offered in Cincinnati\, Dayton and an Upper North location through monthly Data Leadership Meetings. Your implementation will be strengthened by the level of participation YOU choose\, and we cannot wait to support you along the way! \nClick Here to register.
URL:https://resources.catholicaoc.org/event/iready-data-leadership-cohort-for-principals-and-leaders-dayton-location-4
LOCATION:St. Helen\, 5086 Burkhardt Road\, Dayton\, OH\, 45431\, United States
CATEGORIES:Catholic Schools Office
ORGANIZER;CN="Krista Devine":MAILTO:kdevine@catholicaoc.org
GEO:39.7591216;-84.119077
X-APPLE-STRUCTURED-LOCATION;VALUE=URI;X-ADDRESS=St. Helen 5086 Burkhardt Road Dayton OH 45431 United States;X-APPLE-RADIUS=500;X-TITLE=5086 Burkhardt Road:geo:-84.119077,39.7591216
END:VEVENT
END:VCALENDAR