BEGIN:VCALENDAR
VERSION:2.0
PRODID:-//Archdiocese of Cincinnati - ECPv6.15.15//NONSGML v1.0//EN
CALSCALE:GREGORIAN
METHOD:PUBLISH
X-ORIGINAL-URL:https://resources.catholicaoc.org
X-WR-CALDESC:Events for Archdiocese of Cincinnati
REFRESH-INTERVAL;VALUE=DURATION:PT1H
X-Robots-Tag:noindex
X-PUBLISHED-TTL:PT1H
BEGIN:VTIMEZONE
TZID:UTC
BEGIN:STANDARD
TZOFFSETFROM:+0000
TZOFFSETTO:+0000
TZNAME:UTC
DTSTART:20240101T000000
END:STANDARD
END:VTIMEZONE
BEGIN:VEVENT
DTSTART;TZID=UTC:20250821T093000
DTEND;TZID=UTC:20250821T143000
DTSTAMP:20260421T062230
CREATED:20250731T144855Z
LAST-MODIFIED:20250819T182106Z
UID:94762-1755768600-1755786600@resources.catholicaoc.org
SUMMARY:MAP Data Leadership
DESCRIPTION:Date:                    August 21\, 2025 \nTime:                   9:30-10:30 Virtual Session\, 11:00-2:30 Virtual Office Hours \nLocation:             Virtual \n  \n  \nDescription: This session is intended to provide a quick check point\, prior to the 2025-26 school year. During the first hour and half Virtual Session\, attendees will have active working time to learn what’s new in MAP Growth for the 2025-26 school year\, gain an introduction to the 2025 Norms\, determine if rosters are correct and reflect on strategies for getting valid data. Use this opportunity to prepare for the Fall testing window. \n  \nThis session is presented by Vince Barnes\, Senior Account Manager from NWEA MAP Growth. \n  \nFollowing the Live Virtual Session\, you will have an opportunity to join office hours for any \nQ & A or troubleshoot any problems you may be having. \n  \nThis session is intended for school Administrators or Data Leader that oversees Assessment and Data analysis. \n  \nRegistration:\n[Click HERE to Register] \n  \nMicrosoft Teams Need help? \nJoin the meeting now \nMeeting ID: 283 021 555 294 4 \nPasscode: JG995F8r \n(Link will be the same for both Virtual Learning Session and Office Hour Q&A session) \n  \n 
URL:https://resources.catholicaoc.org/event/map-data-leadership-7
LOCATION:Virtual
CATEGORIES:Catholic Schools Office
ORGANIZER;CN="Jodi Turpening":MAILTO:jturpening@catholicaoc.org
END:VEVENT
END:VCALENDAR