BEGIN:VCALENDAR
VERSION:2.0
PRODID:-//Archdiocese of Cincinnati - ECPv6.15.15//NONSGML v1.0//EN
CALSCALE:GREGORIAN
METHOD:PUBLISH
X-WR-CALNAME:Archdiocese of Cincinnati
X-ORIGINAL-URL:https://resources.catholicaoc.org
X-WR-CALDESC:Events for Archdiocese of Cincinnati
REFRESH-INTERVAL;VALUE=DURATION:PT1H
X-Robots-Tag:noindex
X-PUBLISHED-TTL:PT1H
BEGIN:VTIMEZONE
TZID:UTC
BEGIN:STANDARD
TZOFFSETFROM:+0000
TZOFFSETTO:+0000
TZNAME:UTC
DTSTART:20240101T000000
END:STANDARD
END:VTIMEZONE
BEGIN:VEVENT
DTSTART;TZID=UTC:20250929T090000
DTEND;TZID=UTC:20250929T143000
DTSTAMP:20260420T143300
CREATED:20250731T151024Z
LAST-MODIFIED:20250902T175818Z
UID:94797-1759136400-1759156200@resources.catholicaoc.org
SUMMARY:Standards Based Teaching and Assessing using the GCS
DESCRIPTION:September Session:  Grades K & 1 Teachers \nFocus group to review and refine existing work on Standards-Based Teaching and Assessing \nThe Curriculum and Assessment office is looking for teachers in grades K-1 to spend some time reviewing and providing feedback for the Standards Aligned Exiting Skills and corresponding Common Assessments that have been developed to support the standards in the Graded Course of Study.\n\nWe will be meeting from 9:00-2:30pm at Hamilton County Educational Services Center.\n\nPlease consider attending this day of collaboration and providing feedback.\nCLICK HERE to RSVP
URL:https://resources.catholicaoc.org/event/standards-based-teaching-and-assessing-using-the-gcs
LOCATION:Hamilton County ESC\, OH
CATEGORIES:Catholic Schools Office
ORGANIZER;CN="Krista Devine":MAILTO:kdevine@catholicaoc.org
GEO:39.2801727;-84.5650475
END:VEVENT
BEGIN:VEVENT
DTSTART;TZID=UTC:20250930T090000
DTEND;TZID=UTC:20250930T113000
DTSTAMP:20260420T143300
CREATED:20250731T145931Z
LAST-MODIFIED:20250924T142007Z
UID:94777-1759222800-1759231800@resources.catholicaoc.org
SUMMARY:Map Data Leadership
DESCRIPTION:MAP Data Leadership \nIntended For: School Administrator\, Teachers or Data Lead \n  \nDate:                   September 30th\, 2025 \nTime:                   9:00-11:30       Data Essentials \nLocation:             Hamilton County ESC \n11083 Hamilton Ave\, Cincinnati\, OH 45231 \n  \nDescription:\nThis session will provide effective data analysis. Participants will receive guidance and have dedicated working time to: \n\nUnderstand new norms\nAnalyze fall data\, including the school profile and class profile reports\nConduct data chats that set student goals\nBreak down student grouping reports to drive instruction\n\n  \nThe session is intended for administrators and data leaders who are looking to deepen data analysis and conversation within their school buildings. \nThis session is presented by Vince Barnes\, Senior Account Manager from NWEA MAP Growth. \n  \n  \nRegistration:\n[Click HERE to Register] \n 
URL:https://resources.catholicaoc.org/event/map-data-leadership-9
LOCATION:Hamilton County ESC\, OH
CATEGORIES:Catholic Schools Office
ORGANIZER;CN="Jodi Turpening":MAILTO:jturpening@catholicaoc.org
GEO:39.2801727;-84.5650475
END:VEVENT
BEGIN:VEVENT
DTSTART;TZID=UTC:20251001T090000
DTEND;TZID=UTC:20251001T143000
DTSTAMP:20260420T143300
CREATED:20250820T150354Z
LAST-MODIFIED:20250916T183314Z
UID:95624-1759309200-1759329000@resources.catholicaoc.org
SUMMARY:Understanding and Using MAP in the Classroom for Teachers
DESCRIPTION:This session provides teachers with dedicated working time and guided support to analyze fall diagnostic data. Participants will learn how to run key reports\, break down results by whole class\, small groups\, and individual students\, and identify trends that impact instruction. Facilitators will connect data insights directly to evidence-based teaching strategies and interventions so that teachers leave with actionable next steps for the classroom\, small-group instruction\, and one-on-one explicit teaching. The goal is to turn assessment results into meaningful instructional decisions that accelerate student growth. \n  \n[Register]
URL:https://resources.catholicaoc.org/event/understanding-and-using-map-in-the-classroom-for-teachers
LOCATION:Sacred Heart\, Fairfield\, 400 Nilles Road\, Fairfield\, OH\, 45014\, United States
CATEGORIES:Catholic Schools Office
ORGANIZER;CN="Jodi Turpening":MAILTO:jturpening@catholicaoc.org
GEO:39.3384648;-84.5666952
X-APPLE-STRUCTURED-LOCATION;VALUE=URI;X-ADDRESS=Sacred Heart Fairfield 400 Nilles Road Fairfield OH 45014 United States;X-APPLE-RADIUS=500;X-TITLE=400 Nilles Road:geo:-84.5666952,39.3384648
END:VEVENT
BEGIN:VEVENT
DTSTART;TZID=UTC:20251003T083000
DTEND;TZID=UTC:20251003T150000
DTSTAMP:20260420T143300
CREATED:20250731T150525Z
LAST-MODIFIED:20250925T184730Z
UID:94789-1759480200-1759503600@resources.catholicaoc.org
SUMMARY:i-Ready Data Leadership
DESCRIPTION:I-READY Data Leadership \nData Leadership:  Launching Your Data Culture and Collaboration \nDate:  October 3\, 2025 \nTime: 9:00-11:30 \nAudience:  Leaders\, Teacher Leaders\, Accreditation Committees\, limited to 35 participants \nLocation:  \nSt. Ignatius of Loyola School \n5222 North Bend Road\nCincinnati\, Ohio 45247 \nJoin fellow school leaders in a dynamic session focused on leveraging Baseline Diagnostic data to uncover trends\, inform instruction\, and align with your school improvement goals. Whether you’re just beginning or well into the process\, you’ll have the opportunity to gather\, analyze\, and reflect on your data to strengthen both your accreditation efforts and your school’s data culture. Engage in meaningful collaboration with peers\, enhance your leadership practice\, and explore Top Leader Actions that drive impact. Together\, we’ll identify actionable next steps to confidently lead your schools forward! \n  \nUsing i-Ready Literacy Tasks (Benchmark & Progress Monitoring)  \nDate:  October 3\, 2025 \nTime:  12:30-3:00 \nAudience:  Leaders and Teachers\, limited to 35 participants \nLocation:  \nSt. Ignatius of Loyola School \n5222 North Bend Road\nCincinnati\, Ohio 45247 \nEducators are introduced to i-Ready Literacy Benchmark Tasks and Progress Monitoring\, including the foundational literacy skills they assess. They learn how to choose\, administer\, and score the tasks\, enter student data into i-Ready Connect\, and access the Literacy Tasks (Student) report. They learn how to administer\, score\, and enter data into i-Ready Connect\, and how to access student reports for ongoing progress monitoring. Learn how to gather information to identify areas of focus for students’ ’Reading Improvement Plans (RIMPs) as well as what to do if students are not on track to meet goals. \nRegistration:\n[Click HERE to Register]
URL:https://resources.catholicaoc.org/event/i-ready-data-leadership-3
CATEGORIES:Catholic Schools Office
ORGANIZER;CN="Jodi Turpening":MAILTO:jturpening@catholicaoc.org
END:VEVENT
BEGIN:VEVENT
DTSTART;TZID=UTC:20251003T083000
DTEND;TZID=UTC:20251003T150000
DTSTAMP:20260420T143300
CREATED:20250801T121948Z
LAST-MODIFIED:20250930T155910Z
UID:94935-1759480200-1759503600@resources.catholicaoc.org
SUMMARY:Related Arts - Teacher Collaboration Days
DESCRIPTION:Music\, Spanish\, PE\, Art\, and Technology Teachers \nCome and spend the day collaborating with your colleagues from other schools. Typically\, related arts teachers are the only teachers at their school that teach their specialty. This day is devoted to those teachers\, giving them time to work with others across the archdiocese. Teachers will walk away with ready-to-use resources and ideas\, including a network for future collaboration. We hope to see you there. \nCLICK HERE to RSVP \nLocation:  St. Ignatius School 5222 North Bend Road Cincinnati\, OH 45247
URL:https://resources.catholicaoc.org/event/related-arts-teacher-collaboration-days-2
CATEGORIES:Catholic Schools Office
ORGANIZER;CN="Krista Devine":MAILTO:kdevine@catholicaoc.org
END:VEVENT
BEGIN:VEVENT
DTSTART;TZID=UTC:20251003T083000
DTEND;TZID=UTC:20251003T153000
DTSTAMP:20260420T143300
CREATED:20250801T171617Z
LAST-MODIFIED:20250925T183348Z
UID:95012-1759480200-1759505400@resources.catholicaoc.org
SUMMARY:Effective Strategies for Content Teachers of ELs (using SIOP)
DESCRIPTION:Sheltered Instruction Observation Protocol\nThe Fall SIOP Training has been cancelled\, due to low sign-ups. If you are still looking for guidance and instructional support on teaching English Language Learners\, please consider attending a half-day session on resources and tools available for all AOC teachers. A resource Padlet has been created to provide in-the-moment assistance to teachers. Participants of the learning opportunity will review the resource Padlet and dive deeper into some specific resources to use in classrooms immediately following the learning. \nThe same session will be repeated in the morning and afternoon on October 3\, common professional development day. \nCincinnati Area\nOctober 3          | 9:00-11:30; 12:30-3:00 \n[Register] \n\nSIOP\nThe Mission\nSIOP® aims to support teachers in embedding academic language development within their instruction\, so that students can acquire and apply English in academic contexts\, including discipline-specific vocabulary used in textbooks and lectures. \nResearch Based\nThe SIOP Model is a research-based and validated instructional model that has proven effective in addressing the academic needs of multilingual learners. \nBest Practices\nThe SIOP® Model consists of instructional strategies that address eight aspects of lesson design and delivery: lesson preparation\, building background\, comprehensible input\, strategies\, interaction\, practice and application\, lesson delivery\, and review and assessment. \nTargets\nThe eight SIOP® strategies and practices can support any student having trouble with academic vocabulary. \n  \nThese cohorts are appropriate for any content teacher that works with EL Learners and would like to gain a better understanding of how to support the needs of students in the classroom. \n  \n  \nDayton Area\nJanuary 21   | 8:30 AM – 3:00 PM \nFebruary 9   | 8:30 AM – 3:00 PM \nMarch 13      | Virtual Coaching Session \n 
URL:https://resources.catholicaoc.org/event/effective-strategies-for-content-teachers-of-els-using-siop-3
LOCATION:Hamilton County ESC\, OH
CATEGORIES:Catholic Schools Office
ORGANIZER;CN="Jodi Turpening":MAILTO:jturpening@catholicaoc.org
GEO:39.2801727;-84.5650475
END:VEVENT
BEGIN:VEVENT
DTSTART;TZID=UTC:20251003T090000
DTEND;TZID=UTC:20251003T150000
DTSTAMP:20260420T143300
CREATED:20250731T174020Z
LAST-MODIFIED:20250930T155700Z
UID:94891-1759482000-1759503600@resources.catholicaoc.org
SUMMARY:Preschool and Early Learning Teacher Collaboration - Cincinnati location
DESCRIPTION:  \nWe look forward to a day of collaboration with colleagues.\n\nWe will be offering 2 fall sessions for preschool teachers:\n\nOctober 3rd – Immaculate Heart of Mary Preschool 7800 Beechmont Ave Cincinnati\, OH 45255\nOctober 17th – Ascension School\nPlease plan to join us. \n  \nCLICK HERE to RSVP
URL:https://resources.catholicaoc.org/event/preschool-and-early-learning-teacher-collaboration
LOCATION:Immaculate Heart of Mary School\, 7800 Beechmomt Avenue\, Cincinnati\, OH\, 45255\, United States
CATEGORIES:Catholic Schools Office
ORGANIZER;CN="Krista Devine":MAILTO:kdevine@catholicaoc.org
GEO:39.0749872;-84.3397027
X-APPLE-STRUCTURED-LOCATION;VALUE=URI;X-ADDRESS=Immaculate Heart of Mary School 7800 Beechmomt Avenue Cincinnati OH 45255 United States;X-APPLE-RADIUS=500;X-TITLE=7800 Beechmomt Avenue:geo:-84.3397027,39.0749872
END:VEVENT
END:VCALENDAR