BEGIN:VCALENDAR
VERSION:2.0
PRODID:-//Archdiocese of Cincinnati - ECPv6.15.15//NONSGML v1.0//EN
CALSCALE:GREGORIAN
METHOD:PUBLISH
X-ORIGINAL-URL:https://resources.catholicaoc.org
X-WR-CALDESC:Events for Archdiocese of Cincinnati
REFRESH-INTERVAL;VALUE=DURATION:PT1H
X-Robots-Tag:noindex
X-PUBLISHED-TTL:PT1H
BEGIN:VTIMEZONE
TZID:UTC
BEGIN:STANDARD
TZOFFSETFROM:+0000
TZOFFSETTO:+0000
TZNAME:UTC
DTSTART:20240101T000000
END:STANDARD
END:VTIMEZONE
BEGIN:VEVENT
DTSTART;TZID=UTC:20251007T090000
DTEND;TZID=UTC:20251007T143000
DTSTAMP:20260424T053917
CREATED:20250820T150847Z
LAST-MODIFIED:20250916T184253Z
UID:95628-1759827600-1759847400@resources.catholicaoc.org
SUMMARY:Understanding and Using i-Ready Data in the Classroom for Teachers
DESCRIPTION:This session provides teachers with dedicated working time and guided support to analyze fall diagnostic data. Participants will learn how to run key reports\, break down results by whole class\, small groups\, and individual students\, and identify trends that impact instruction. Facilitators will connect data insights directly to evidence-based teaching strategies and interventions so that teachers leave with actionable next steps for the classroom\, small-group instruction\, and one-on-one explicit teaching. The goal is to turn assessment results into meaningful instructional decisions that accelerate student growth. \n  \n[Register]
URL:https://resources.catholicaoc.org/event/understanding-and-using-i-ready-data-in-the-classroom-for-teachers
LOCATION:Sacred Heart\, Fairfield\, 400 Nilles Road\, Fairfield\, OH\, 45014\, United States
CATEGORIES:Catholic Schools Office
ORGANIZER;CN="Jodi Turpening":MAILTO:jturpening@catholicaoc.org
GEO:39.3384648;-84.5666952
X-APPLE-STRUCTURED-LOCATION;VALUE=URI;X-ADDRESS=Sacred Heart Fairfield 400 Nilles Road Fairfield OH 45014 United States;X-APPLE-RADIUS=500;X-TITLE=400 Nilles Road:geo:-84.5666952,39.3384648
END:VEVENT
BEGIN:VEVENT
DTSTART;TZID=UTC:20251008T090000
DTEND;TZID=UTC:20251008T143000
DTSTAMP:20260424T053917
CREATED:20250731T151155Z
LAST-MODIFIED:20250902T180251Z
UID:94799-1759914000-1759933800@resources.catholicaoc.org
SUMMARY:Standards Based Teaching and Assessing using the GCS
DESCRIPTION:October Session:  Grades 2 & 3 Teachers \nFocus group to review and refine existing work on Standards-Based Teaching and Assessing \nThe Curriculum and Assessment office is looking for teachers in grades 2-3 to spend some time reviewing and providing feedback for the Standards Aligned Exiting Skills and corresponding Common Assessments that have been developed to support the standards in the Graded Course of Study.\n\n\nWe will be meeting from 9:00-2:30pm at Hamilton County Educational Services Center.\n\n\nPlease consider attending this day of collaboration and providing feedback.\n\nCLICK HERE to RSVP
URL:https://resources.catholicaoc.org/event/standards-based-teaching-and-assessing-using-the-gcs-2
LOCATION:Hamilton County ESC\, OH
CATEGORIES:Catholic Schools Office
ORGANIZER;CN="Krista Devine":MAILTO:kdevine@catholicaoc.org
GEO:39.2801727;-84.5650475
END:VEVENT
BEGIN:VEVENT
DTSTART;TZID=UTC:20251009T090000
DTEND;TZID=UTC:20251009T143000
DTSTAMP:20260424T053917
CREATED:20250820T150955Z
LAST-MODIFIED:20250916T184458Z
UID:95630-1760000400-1760020200@resources.catholicaoc.org
SUMMARY:Understanding and Using i-Ready Data in the Classroom for Teachers
DESCRIPTION:This session provides teachers with dedicated working time and guided support to analyze fall diagnostic data. Participants will learn how to run key reports\, break down results by whole class\, small groups\, and individual students\, and identify trends that impact instruction. Facilitators will connect data insights directly to evidence-based teaching strategies and interventions so that teachers leave with actionable next steps for the classroom\, small-group instruction\, and one-on-one explicit teaching. The goal is to turn assessment results into meaningful instructional decisions that accelerate student growth. \n  \n[Register]
URL:https://resources.catholicaoc.org/event/understanding-and-using-i-ready-data-in-the-classroom-for-teachers-2
LOCATION:Hamilton County ESC\, OH
CATEGORIES:Catholic Schools Office
ORGANIZER;CN="Jodi Turpening":MAILTO:jturpening@catholicaoc.org
GEO:39.2801727;-84.5650475
END:VEVENT
END:VCALENDAR