BEGIN:VCALENDAR
VERSION:2.0
PRODID:-//Archdiocese of Cincinnati - ECPv6.15.15//NONSGML v1.0//EN
CALSCALE:GREGORIAN
METHOD:PUBLISH
X-WR-CALNAME:Archdiocese of Cincinnati
X-ORIGINAL-URL:https://resources.catholicaoc.org
X-WR-CALDESC:Events for Archdiocese of Cincinnati
REFRESH-INTERVAL;VALUE=DURATION:PT1H
X-Robots-Tag:noindex
X-PUBLISHED-TTL:PT1H
BEGIN:VTIMEZONE
TZID:UTC
BEGIN:STANDARD
TZOFFSETFROM:+0000
TZOFFSETTO:+0000
TZNAME:UTC
DTSTART:20240101T000000
END:STANDARD
END:VTIMEZONE
BEGIN:VEVENT
DTSTART;TZID=UTC:20251209T080000
DTEND;TZID=UTC:20251209T153000
DTSTAMP:20260423T200107
CREATED:20251119T160314Z
LAST-MODIFIED:20251119T160314Z
UID:99128-1765267200-1765294200@resources.catholicaoc.org
SUMMARY:Clarity\, Literacy and Voice: Strengthening Student Thinking Through Speaking
DESCRIPTION:Clarity\, Literacy and Voice: Strengthening Student Thinking Through Speaking\n– Audience:  ELA teachers\, content teachers\, teacher leaders\, and administrators\n\nImplement structured conversations to encourage student thinking and communication in any subject.\nUse active reading strategies that enhance comprehension and retention of material.\nDevelop quality writing tasks that allow students to synthesize and apply what they have learned in any subject area.\n\nImportant Session Information:\nIn the session Clarity\, Literacy\, and Voice: Strengthening Student Thinking Through Speaking participants will explore various strategies that provide clear\, step-by-step guides for integrating structured conversations\, active reading\, and meaningful writing activities into any classroom setting. \nClick Here to register
URL:https://resources.catholicaoc.org/event/clarity-literacy-and-voice-strengthening-student-thinking-through-speaking
LOCATION:Hamilton County ESC\, OH
CATEGORIES:Catholic Schools Office
GEO:39.2801727;-84.5650475
END:VEVENT
BEGIN:VEVENT
DTSTART;TZID=UTC:20251210T080000
DTEND;TZID=UTC:20251210T113000
DTSTAMP:20260423T200107
CREATED:20251119T160557Z
LAST-MODIFIED:20251119T160557Z
UID:99130-1765353600-1765366200@resources.catholicaoc.org
SUMMARY:Bringing the Science of Reading to Life in Secondary Classrooms
DESCRIPTION:Bringing the Science of Reading to Life in Secondary Classrooms\n– Audience:  Middle and High School Content Area Teachers\, Instructional Coaches and Literacy Specialists\, Department Chairs and Curriculum Leads\, Intervention Specialists\, Administrators and Instructional Leaders\n\nUnderstand key principles of the Science of Reading as they apply to adolescent learners.\nExplore how Science of Reading practices can be integrated across content areas.\nEngage in collaborative planning to embed SoR-aligned strategies into middle and high school instruction\n\nImportant Session Information:\nThis dynamic 3.5-hour session dives into the Science of Reading through the lens of adolescent learners. Discover how SoR principles apply beyond ELA and into every content area. Participants will walk away with practical\, classroom-ready strategies and engage in collaborative planning to embed SoR-aligned practices into their instruction. Whether the teacher is new to SoR or ready to deepen their implementation\, this session will equip and energize participants to make literacy a shared responsibility. \n\nParticipants can earn Ashland credit as well as CEUs and contact hours. \nClick Here to register
URL:https://resources.catholicaoc.org/event/bringing-the-science-of-reading-to-life-in-secondary-classrooms
LOCATION:Hamilton County ESC\, OH
CATEGORIES:Catholic Schools Office
GEO:39.2801727;-84.5650475
END:VEVENT
END:VCALENDAR