BEGIN:VCALENDAR
VERSION:2.0
PRODID:-//Archdiocese of Cincinnati - ECPv6.15.15//NONSGML v1.0//EN
CALSCALE:GREGORIAN
METHOD:PUBLISH
X-WR-CALNAME:Archdiocese of Cincinnati
X-ORIGINAL-URL:https://resources.catholicaoc.org
X-WR-CALDESC:Events for Archdiocese of Cincinnati
REFRESH-INTERVAL;VALUE=DURATION:PT1H
X-Robots-Tag:noindex
X-PUBLISHED-TTL:PT1H
BEGIN:VTIMEZONE
TZID:UTC
BEGIN:STANDARD
TZOFFSETFROM:+0000
TZOFFSETTO:+0000
TZNAME:UTC
DTSTART:20240101T000000
END:STANDARD
END:VTIMEZONE
BEGIN:VEVENT
DTSTART;TZID=UTC:20251004T090000
DTEND;TZID=UTC:20251004T133000
DTSTAMP:20260423T165223
CREATED:20250808T182828Z
LAST-MODIFIED:20250808T182854Z
UID:95257-1759568400-1759584600@resources.catholicaoc.org
SUMMARY:Pilgrimage of Hope for Creation - Dayton East
DESCRIPTION:View the webpage for more information!
URL:https://resources.catholicaoc.org/event/pilgrimage-of-hope-for-creation-dayton-east
LOCATION:Marianist Environmental Education Center – St. Joseph Hall\, 4435 E Patterson Rd\, Beavercreek\, OH\, 45430\, United States
CATEGORIES:Catholic Social Action
ORGANIZER;CN="Catholic Social Action Office":MAILTO:csa@catholicaoc.org
GEO:39.7186484;-84.099567
X-APPLE-STRUCTURED-LOCATION;VALUE=URI;X-ADDRESS=Marianist Environmental Education Center – St. Joseph Hall 4435 E Patterson Rd Beavercreek OH 45430 United States;X-APPLE-RADIUS=500;X-TITLE=4435 E Patterson Rd:geo:-84.099567,39.7186484
END:VEVENT
BEGIN:VEVENT
DTSTART;TZID=UTC:20251011T090000
DTEND;TZID=UTC:20251011T163000
DTSTAMP:20260423T165223
CREATED:20250307T195540Z
LAST-MODIFIED:20250813T200332Z
UID:87237-1760173200-1760200200@resources.catholicaoc.org
SUMMARY:Creating a Hope-filled Future Together - A Laudato Si' Conference
DESCRIPTION:Register Here! \nParking Information: xavier-parking-area-around-health-united-building.pdf
URL:https://resources.catholicaoc.org/event/creating-a-hope-filled-future-together-a-laudato-si-conference
LOCATION:Xavier University’s Health United Building\, 1723 Cleneay Ave\, Cincinnati\, OH\, 45212\, United States
CATEGORIES:Catholic Social Action
GEO:39.1482567;-84.470207
X-APPLE-STRUCTURED-LOCATION;VALUE=URI;X-ADDRESS=Xavier University’s Health United Building 1723 Cleneay Ave Cincinnati OH 45212 United States;X-APPLE-RADIUS=500;X-TITLE=1723 Cleneay Ave:geo:-84.470207,39.1482567
END:VEVENT
END:VCALENDAR