BEGIN:VCALENDAR
VERSION:2.0
PRODID:-//Archdiocese of Cincinnati - ECPv6.15.15//NONSGML v1.0//EN
CALSCALE:GREGORIAN
METHOD:PUBLISH
X-WR-CALNAME:Archdiocese of Cincinnati
X-ORIGINAL-URL:https://resources.catholicaoc.org
X-WR-CALDESC:Events for Archdiocese of Cincinnati
REFRESH-INTERVAL;VALUE=DURATION:PT1H
X-Robots-Tag:noindex
X-PUBLISHED-TTL:PT1H
BEGIN:VTIMEZONE
TZID:UTC
BEGIN:STANDARD
TZOFFSETFROM:+0000
TZOFFSETTO:+0000
TZNAME:UTC
DTSTART:20230101T000000
END:STANDARD
END:VTIMEZONE
BEGIN:VEVENT
DTSTART;TZID=UTC:20241014T190000
DTEND;TZID=UTC:20241014T203000
DTSTAMP:20260424T062540
CREATED:20240819T110344Z
LAST-MODIFIED:20240819T110344Z
UID:78988-1728932400-1728937800@resources.catholicaoc.org
SUMMARY:Our Eucharistic Mission in a Polarized World
DESCRIPTION:Skills for Disagreeing Better \nThis workshop helps participants to understand the values and concerns of those who differ from them politically.  It teaches essential skills for communicating across differences and finding common ground. \nClick here for more information and to RSVP.
URL:https://resources.catholicaoc.org/event/our-eucharistic-mission-in-a-polarized-world-2
LOCATION:Clocktower Lounge of GSC\, Xavier University\, 3800 Victory Parkway\, Ci\, 45207\, United States
CATEGORIES:CSA Action Center
GEO:39.1489123;-84.4796222
X-APPLE-STRUCTURED-LOCATION;VALUE=URI;X-ADDRESS=Clocktower Lounge of GSC Xavier University 3800 Victory Parkway Ci 45207 United States;X-APPLE-RADIUS=500;X-TITLE=3800 Victory Parkway:geo:-84.4796222,39.1489123
END:VEVENT
END:VCALENDAR