BEGIN:VCALENDAR
VERSION:2.0
PRODID:-//Archdiocese of Cincinnati - ECPv6.15.15//NONSGML v1.0//EN
CALSCALE:GREGORIAN
METHOD:PUBLISH
X-ORIGINAL-URL:https://resources.catholicaoc.org
X-WR-CALDESC:Events for Archdiocese of Cincinnati
REFRESH-INTERVAL;VALUE=DURATION:PT1H
X-Robots-Tag:noindex
X-PUBLISHED-TTL:PT1H
BEGIN:VTIMEZONE
TZID:UTC
BEGIN:STANDARD
TZOFFSETFROM:+0000
TZOFFSETTO:+0000
TZNAME:UTC
DTSTART:20240101T000000
END:STANDARD
END:VTIMEZONE
BEGIN:VEVENT
DTSTART;TZID=UTC:20250512T190000
DTEND;TZID=UTC:20250512T210000
DTSTAMP:20260422T203100
CREATED:20250327T162951Z
LAST-MODIFIED:20250327T164354Z
UID:88462-1747076400-1747083600@resources.catholicaoc.org
SUMMARY:With Zeal and Patience - Family Style!
DESCRIPTION:JOIN NEW\, POTENTIAL\, AND VETERAN MEMBERS (CLERGY\, STAFF\, PARISHIONERS) OF OTHER PARISH WORSHIP COMMISSIONS FOR THIS WORKSHOP ON YOUR ROLE IN PROMOTING THE SACRED LITURGY IN OUR FAITH COMMUNITIES WITH “ZEAL AND PATIENCE”! – FAMILY STYLE!\nTopics include: \n\nWhy a Worship Commission is essential for your Family of Parishes\nHow to achieve unity not just uniformity in your liturgical celebrations\nEssential liturgical principles\nHow to evaluate your parish liturgies for improvement\nStrategies for liturgical catechesis\nPreparing the liturgical year\nEquipping liturgical ministers\nHow and when to begin (if you have not already) forming a commission for your Family of Parishes.\nAnd much more!\n\nCost: Free \nREGISTER
URL:https://resources.catholicaoc.org/event/with-zeal-and-patience-family-style-2
LOCATION:St. Columban Parish\, 894 Oakland Rd\, Loveland\, OH\, OH\, 45140\, United States
CATEGORIES:Divine Worship & Sacraments,Parish Vitality
ATTACH;FMTTYPE=image/png:https://resources.catholicaoc.org/wp-content/uploads/2021/07/WithZealPatience_wordmark_nobkgd.png
ORGANIZER;CN="Office for Divine Worship and Sacraments":MAILTO:worship@catholicaoc.org
GEO:39.2592585;-84.24689
X-APPLE-STRUCTURED-LOCATION;VALUE=URI;X-ADDRESS=St. Columban Parish 894 Oakland Rd Loveland OH OH 45140 United States;X-APPLE-RADIUS=500;X-TITLE=894 Oakland Rd:geo:-84.24689,39.2592585
END:VEVENT
BEGIN:VEVENT
DTSTART;TZID=UTC:20250513T130000
DTEND;TZID=UTC:20250513T150000
DTSTAMP:20260422T203100
CREATED:20250327T163115Z
LAST-MODIFIED:20250327T164448Z
UID:88465-1747141200-1747148400@resources.catholicaoc.org
SUMMARY:With Zeal and Patience - Family Style!
DESCRIPTION:JOIN NEW\, POTENTIAL\, AND VETERAN MEMBERS (CLERGY\, STAFF\, PARISHIONERS) OF OTHER PARISH WORSHIP COMMISSIONS FOR THIS WORKSHOP ON YOUR ROLE IN PROMOTING THE SACRED LITURGY IN OUR FAITH COMMUNITIES WITH “ZEAL AND PATIENCE”! – FAMILY STYLE!\nTopics include: \n\nWhy a Worship Commission is essential for your Family of Parishes\nHow to achieve unity not just uniformity in your liturgical celebrations\nEssential liturgical principles\nHow to evaluate your parish liturgies for improvement\nStrategies for liturgical catechesis\nPreparing the liturgical year\nEquipping liturgical ministers\nHow and when to begin (if you have not already) forming a commission for your Family of Parishes.\nAnd much more!\n\nCost: Free \nREGISTER
URL:https://resources.catholicaoc.org/event/with-zeal-and-patience-family-style-3
LOCATION:Online
CATEGORIES:Divine Worship & Sacraments,Parish Vitality
ATTACH;FMTTYPE=image/png:https://resources.catholicaoc.org/wp-content/uploads/2021/07/WithZealPatience_wordmark_nobkgd.png
END:VEVENT
END:VCALENDAR