BEGIN:VCALENDAR
VERSION:2.0
PRODID:-//Archdiocese of Cincinnati - ECPv6.15.15//NONSGML v1.0//EN
CALSCALE:GREGORIAN
METHOD:PUBLISH
X-WR-CALNAME:Archdiocese of Cincinnati
X-ORIGINAL-URL:https://resources.catholicaoc.org
X-WR-CALDESC:Events for Archdiocese of Cincinnati
REFRESH-INTERVAL;VALUE=DURATION:PT1H
X-Robots-Tag:noindex
X-PUBLISHED-TTL:PT1H
BEGIN:VTIMEZONE
TZID:UTC
BEGIN:STANDARD
TZOFFSETFROM:+0000
TZOFFSETTO:+0000
TZNAME:UTC
DTSTART:20190101T000000
END:STANDARD
END:VTIMEZONE
BEGIN:VEVENT
DTSTART;TZID=UTC:20200801T170000
DTEND;TZID=UTC:20200801T180000
DTSTAMP:20260421T154537
CREATED:20200604T211258Z
LAST-MODIFIED:20201124T192342Z
UID:6230-1596301200-1596304800@resources.catholicaoc.org
SUMMARY:Sensory-Friendly Mass
DESCRIPTION:
URL:https://resources.catholicaoc.org/event/sensory-friendly-mass/2020-08-01
LOCATION:St. Francis of Assisi Parish- Centerville\, 6245 Wilmington Pike\, Centerville\, OH\, 45459
CATEGORIES:Office for Persons with Disabilities
ATTACH;FMTTYPE=image/png:https://resources.catholicaoc.org/wp-content/uploads/2020/06/Beige-Modern-Fellowship-Presentation-1.png
GEO:39.6483137;-84.1121124
X-APPLE-STRUCTURED-LOCATION;VALUE=URI;X-ADDRESS=St. Francis of Assisi Parish- Centerville 6245 Wilmington Pike Centerville OH 45459;X-APPLE-RADIUS=500;X-TITLE=6245 Wilmington Pike:geo:-84.1121124,39.6483137
END:VEVENT
END:VCALENDAR