BEGIN:VCALENDAR
VERSION:2.0
PRODID:-//Archdiocese of Cincinnati - ECPv6.15.15//NONSGML v1.0//EN
CALSCALE:GREGORIAN
METHOD:PUBLISH
X-ORIGINAL-URL:https://resources.catholicaoc.org
X-WR-CALDESC:Events for Archdiocese of Cincinnati
REFRESH-INTERVAL;VALUE=DURATION:PT1H
X-Robots-Tag:noindex
X-PUBLISHED-TTL:PT1H
BEGIN:VTIMEZONE
TZID:UTC
BEGIN:STANDARD
TZOFFSETFROM:+0000
TZOFFSETTO:+0000
TZNAME:UTC
DTSTART:20230101T000000
END:STANDARD
END:VTIMEZONE
BEGIN:VEVENT
DTSTART;TZID=UTC:20240905T090000
DTEND;TZID=UTC:20240905T150000
DTSTAMP:20260419T180907
CREATED:20240709T225044Z
LAST-MODIFIED:20240715T150343Z
UID:75928-1725526800-1725548400@resources.catholicaoc.org
SUMMARY:Parish Communicators Workshop
DESCRIPTION:The archdiocesan Center for Parish Vitality and the Office of Communication will again be holding a one-day workshopfor those Family of Parishes staff members responsible for parish communications – including bulletin editors\, website managers\, social media coordinators\, and email and newsletter editors. \nThe day will be an opportunity to explore best practices\, collaborate and share ideas with other parish communicators\, and learn more about how to communicate the top priorities across the archdiocese \nThe workshop will be held twice with the same content both days – so just register for one! \nLEARN MORE & REGISTER
URL:https://resources.catholicaoc.org/event/parish-communicators-workshop
LOCATION:Our Lady of Sorrows\, 330 Lebanon St.\, Monroe\, Ohio\, 45050
CATEGORIES:Parish Vitality
ATTACH;FMTTYPE=image/jpeg:https://resources.catholicaoc.org/wp-content/uploads/2024/07/parish-communicators-workshop.jpg
ORGANIZER;CN="Center for Parish Vitality":MAILTO:vitality@catholicaoc.org
GEO:39.4405093;-84.3576554
X-APPLE-STRUCTURED-LOCATION;VALUE=URI;X-ADDRESS=Our Lady of Sorrows 330 Lebanon St. Monroe Ohio 45050;X-APPLE-RADIUS=500;X-TITLE=330 Lebanon St.:geo:-84.3576554,39.4405093
END:VEVENT
BEGIN:VEVENT
DTSTART;TZID=UTC:20240910T090000
DTEND;TZID=UTC:20240910T150000
DTSTAMP:20260419T180907
CREATED:20240709T225253Z
LAST-MODIFIED:20240715T150617Z
UID:75931-1725958800-1725980400@resources.catholicaoc.org
SUMMARY:Parish Communicators Workshop
DESCRIPTION:The archdiocesan Center for Parish Vitality and the Office of Communication will again be holding a one-day workshopfor those Family of Parishes staff members responsible for parish communications – including bulletin editors\, website managers\, social media coordinators\, and email and newsletter editors. \nThe day will be an opportunity to explore best practices\, collaborate and share ideas with other parish communicators\, and learn more about how to communicate the top priorities across the archdiocese \nThe workshop will be held twice with the same content both days – so just register for one! \nLEARN MORE & REGISTER
URL:https://resources.catholicaoc.org/event/parish-communicators-workshop-2
LOCATION:St. John the Baptist (Tipp City)\, 753 S. Hyatt St.\, Tipp City\, OH\, 45371
CATEGORIES:Parish Vitality
ATTACH;FMTTYPE=image/jpeg:https://resources.catholicaoc.org/wp-content/uploads/2024/07/parish-communicators-workshop.jpg
ORGANIZER;CN="Center for Parish Vitality":MAILTO:vitality@catholicaoc.org
GEO:39.9510464;-84.1759693
X-APPLE-STRUCTURED-LOCATION;VALUE=URI;X-ADDRESS=St. John the Baptist (Tipp City) 753 S. Hyatt St. Tipp City OH 45371;X-APPLE-RADIUS=500;X-TITLE=753 S. Hyatt St.:geo:-84.1759693,39.9510464
END:VEVENT
BEGIN:VEVENT
DTSTART;TZID=UTC:20240924T133000
DTEND;TZID=UTC:20240924T144500
DTSTAMP:20260419T180907
CREATED:20240829T131228Z
LAST-MODIFIED:20240913T183718Z
UID:79340-1727184600-1727189100@resources.catholicaoc.org
SUMMARY:Meeting for Initiation Coordinators
DESCRIPTION:Join staff from the Office for Divine Worship & Sacraments\, the Center for the New Evangelization\, and the Chancery to learn more about the new OCIA\, the new national statutes\, changes to archdiocesan policy and practice\, and formation opportunities in the coming months. \nhttps://resources.catholicaoc.org/divine-worship-and-sacraments/news/ocia
URL:https://resources.catholicaoc.org/event/meeting-for-initiation-coordinators
LOCATION:Online
CATEGORIES:Parish Vitality
ATTACH;FMTTYPE=image/jpeg:https://resources.catholicaoc.org/wp-content/uploads/2024/09/Meeting-for-Initiation-Coordinators-Event-Img.jpg
END:VEVENT
BEGIN:VEVENT
DTSTART;TZID=UTC:20240926T133000
DTEND;TZID=UTC:20240926T144500
DTSTAMP:20260419T180907
CREATED:20240914T003623Z
LAST-MODIFIED:20240914T004101Z
UID:79935-1727357400-1727361900@resources.catholicaoc.org
SUMMARY:Together Sunday Leader Launch
DESCRIPTION:Join the Center for Parish Vitality\, along with staff from the Communication and Evangelization teams\, for a launch event for parish leaders to prepare for Together Sunday. \nClick here to sign up and get more info about Together Sunday\, November 24. \n 
URL:https://resources.catholicaoc.org/event/togethersundayleaderlaunch/2024-09-26
LOCATION:Online
CATEGORIES:Parish Vitality,Offices of the Evangelization & Discipleship,Communications,Divine Worship & Sacraments
ATTACH;FMTTYPE=image/png:https://resources.catholicaoc.org/wp-content/uploads/2024/09/Screenshot-2024-09-13-at-3.35.48 PM.png
END:VEVENT
END:VCALENDAR