BEGIN:VCALENDAR
VERSION:2.0
PRODID:-//Archdiocese of Cincinnati - ECPv6.15.15//NONSGML v1.0//EN
CALSCALE:GREGORIAN
METHOD:PUBLISH
X-WR-CALNAME:Archdiocese of Cincinnati
X-ORIGINAL-URL:https://resources.catholicaoc.org
X-WR-CALDESC:Events for Archdiocese of Cincinnati
REFRESH-INTERVAL;VALUE=DURATION:PT1H
X-Robots-Tag:noindex
X-PUBLISHED-TTL:PT1H
BEGIN:VTIMEZONE
TZID:UTC
BEGIN:STANDARD
TZOFFSETFROM:+0000
TZOFFSETTO:+0000
TZNAME:UTC
DTSTART:20240101T000000
END:STANDARD
END:VTIMEZONE
BEGIN:VEVENT
DTSTART;TZID=UTC:20250113T100000
DTEND;TZID=UTC:20250113T110000
DTSTAMP:20260422T071236
CREATED:20241116T135759Z
LAST-MODIFIED:20241116T135759Z
UID:82628-1736762400-1736766000@resources.catholicaoc.org
SUMMARY:Love in Action coordinator meeting
DESCRIPTION:A new series of meetings for Love in Action coordinators will begin soon! Our first gathering will be on Monday\, January 13th\, at 10:00am over Zoom. You will be able to access the meeting here: \nhttps://zoom.us/j/94315694319\nMeeting ID: 943 1569 4319\nDial in: 312 626 6799 \nJust a reminder – this gathering is for Love in Action coordinators (whether paid or volunteer)\, team members\, advocates\, and champions\, and we’ll be connecting\, sharing successes\, discussing challenges\, and otherwise supporting each other as we work to promote this critical aspect of our faith. Several challenges were brought up (including dealing with conflict\, finding volunteers\, combining ministries\, prioritization\, leadership succession\, next steps\, etc.)\, and we’ll do our best to make space to discuss as many of these challenges as we can each session.
URL:https://resources.catholicaoc.org/event/love-in-action-coordinator-meeting
LOCATION:Online
CATEGORIES:Catholic Social Action,Parish Vitality
ATTACH;FMTTYPE=image/png:https://resources.catholicaoc.org/wp-content/uploads/2023/08/Love-in-Action-Reversed.png
END:VEVENT
BEGIN:VEVENT
DTSTART;TZID=UTC:20250115T133000
DTEND;TZID=UTC:20250115T143000
DTSTAMP:20260422T071236
CREATED:20241002T182013Z
LAST-MODIFIED:20241002T182219Z
UID:80998-1736947800-1736951400@resources.catholicaoc.org
SUMMARY:Christian Initiation Webinars
DESCRIPTION:Join us for a series of online gatherings on different aspects of Christian initiation for parish ministry leaders.  Each will feature formation\, discussion\, and a chance to share best practices.\nTues\, Oct 29: Sacramental Recordkeeping \nAn exploration of the updated archdiocesan Sacramental Records Handbook with a focus \nWeds\, Dec 4: Purification & Enlightenment: A Lenten Retreat \nHow to make these 40 days a Lenten retreat for the Elect and candidates rather than just a last-minute “catchup” on catechesis. \nWeds\, Jan 15: National Statutes: A Deep Dive \nA close and careful look at the new National Statutes on the Catechumenate and their implications for adult initiation ministry going forward. \nThurs\, Feb 27: Marriage Issues & the Catechumenate \nPastoral and canonical approaches for ministering to inquirers and catechumens in irregular marriages. \nRegister here.
URL:https://resources.catholicaoc.org/event/christian-initiation-webinars/2025-01-15
LOCATION:Online
CATEGORIES:Parish Vitality
ATTACH;FMTTYPE=image/png:https://resources.catholicaoc.org/wp-content/uploads/2024/09/Christian-Initiation_Vertical_Navy-e1727893198884.png
ORGANIZER;CN="Office for Divine Worship and Sacraments":MAILTO:worship@catholicaoc.org
END:VEVENT
END:VCALENDAR