BEGIN:VCALENDAR
VERSION:2.0
PRODID:-//Archdiocese of Cincinnati - ECPv6.15.15//NONSGML v1.0//EN
CALSCALE:GREGORIAN
METHOD:PUBLISH
X-ORIGINAL-URL:https://resources.catholicaoc.org
X-WR-CALDESC:Events for Archdiocese of Cincinnati
REFRESH-INTERVAL;VALUE=DURATION:PT1H
X-Robots-Tag:noindex
X-PUBLISHED-TTL:PT1H
BEGIN:VTIMEZONE
TZID:UTC
BEGIN:STANDARD
TZOFFSETFROM:+0000
TZOFFSETTO:+0000
TZNAME:UTC
DTSTART:20200101T000000
END:STANDARD
END:VTIMEZONE
BEGIN:VEVENT
DTSTART;TZID=UTC:20210128T180000
DTEND;TZID=UTC:20210128T180000
DTSTAMP:20260422T084408
CREATED:20201116T012011Z
LAST-MODIFIED:20201119T030347Z
UID:14593-1611856800-1611856800@resources.catholicaoc.org
SUMMARY:Serenelli Project Quarterly Holy Hour & Gathering
DESCRIPTION: 
URL:https://resources.catholicaoc.org/event/serenelli-project-quarterly-holy-hour-gathering
CATEGORIES:Prison Ministry
ATTACH;FMTTYPE=image/png:https://resources.catholicaoc.org/wp-content/uploads/2020/11/Copy-of-Copy-of-SP-Logo.png
END:VEVENT
END:VCALENDAR