BEGIN:VCALENDAR
VERSION:2.0
PRODID:-//Archdiocese of Cincinnati - ECPv6.15.15//NONSGML v1.0//EN
CALSCALE:GREGORIAN
METHOD:PUBLISH
X-ORIGINAL-URL:https://resources.catholicaoc.org
X-WR-CALDESC:Events for Archdiocese of Cincinnati
REFRESH-INTERVAL;VALUE=DURATION:PT1H
X-Robots-Tag:noindex
X-PUBLISHED-TTL:PT1H
BEGIN:VTIMEZONE
TZID:UTC
BEGIN:STANDARD
TZOFFSETFROM:+0000
TZOFFSETTO:+0000
TZNAME:UTC
DTSTART:20200101T000000
END:STANDARD
END:VTIMEZONE
BEGIN:VEVENT
DTSTART;TZID=UTC:20210203T133000
DTEND;TZID=UTC:20210203T150000
DTSTAMP:20260426T043540
CREATED:20201214T195712Z
LAST-MODIFIED:20210112T170125Z
UID:18284-1612359000-1612364400@resources.catholicaoc.org
SUMMARY:Now and At the Hour of Our Death
DESCRIPTION:It’s never too soon to begin thinking about our own funeral\, end-of-life care\, and who will be making those decisions. Join us for this free online workshop to learn about how to get started on planning a Catholic funeral and what the Church teaches on key end-of-life issues. \n  \nTopics include: \n\nPre-planning the three stages of the Catholic funeral\nWhat the Church really teaches about cremation\nHow to approach difficult end-of-life decisions with your loved ones from a Catholic perspective (life support\, medical power of attorney\, etc.)\n\n  \nPresenters: \nMr. Jeremy Helmes\, Director\, Office for Divine Worship & Sacraments \nMr. Bob Wurzelbacher\, Director\, Office for Respect Life Ministries \n  \nCost: Free! \nRegistration: (please add “worship@catholicaoc.org” to your safe senders list to receive confirmation of your registration) \n\n\n                \n                        \n							"*" indicates required fields \n                        \n                        Please choose one (both are virtual):*\n			\n					\n					Wed.\, Nov. 8\, 7:00pm-8:30pm\n			\n			\n					\n					Tues.\, Nov. 14\, 1:30pm-3:00pm\n			First Name*Last Name*Email address*\n                            \n                        Parish Name*Parish Family*Choose one:Northwest - 1Northwest - 2Northwest - 3Northwest - 4Northwest - 5Northwest - 6Northwest - 7Northwest - 8Northeast - 1Northeast - 2Northeast - 3Northeast - 4Northeast - 5Northeast - 6Northeast - 7Northeast - 8Northeast - 9Northeast - 10Northeast - 11Central - 1Central - 2Central - 3Central - 4Central - 5Central - 6Central - 7Southwest - 1Southwest - 2Southwest - 3Southwest - 4Southwest - 5Southwest - 6Southwest - 7Southwest - 8Southeast - 1Southeast - 2Southeast - 3Southeast - 4Southeast - 5Southeast - 6Southeast - 7Southeast - 8South - 1South - 2South - 3South - 4South - 5South - 6South - 7South - 8South - 9South - 10South - 11South - 12South - 13South - 14South - 15South - 16Southeast - 1Southeast - 2Southeast - 3Southeast - 4Southeast - 5Southeast - 6Southeast - 7Interested in (check all that apply):*\n								\n								Pre-planning MY funeral\n							\n								\n								Pre-planning a funeral for a loved one\n							\n								\n								Cremation\n							\n								\n								End-of-life medical questions\n							\n								\n								End-of-life medical pre-planning\n							\n								\n								Continuing ed as a bereavement minister\n							CAPTCHA
URL:https://resources.catholicaoc.org/event/now-and-at-the-hour-of-our-death/2021-02-03
LOCATION:Zoom
CATEGORIES:Respect Life,Divine Worship & Sacraments
ATTACH;FMTTYPE=image/jpeg:https://resources.catholicaoc.org/wp-content/uploads/2020/12/JAW3108a_edited-4.jpg
ORGANIZER;CN="ODWS":MAILTO:worship@catholicaoc.org
END:VEVENT
BEGIN:VEVENT
DTSTART;TZID=UTC:20210206T090000
DTEND;TZID=UTC:20210206T100000
DTSTAMP:20260426T043540
CREATED:20210209T170056Z
LAST-MODIFIED:20260203T200351Z
UID:21944-1612602000-1612605600@resources.catholicaoc.org
SUMMARY:Saturday Pro-Life Rosary Procession
DESCRIPTION:Gather at 9:00 a.m. every Saturday at Holy Name Church on Auburn Avenue\, followed by a rosary procession to Planned Parenthood.  For more info\, contact the Franciscan Daughters of Mary at hnchapelfdn@gmail.com. \n 
URL:https://resources.catholicaoc.org/event/saturday-pro-life-prayer-vigil/2021-02-06
LOCATION:Holy Name Catholic Church\, 2448 Auburn Ave\, Cincinnati\, Ohio\, 45219
CATEGORIES:Respect Life,March for Life
ATTACH;FMTTYPE=image/jpeg:https://resources.catholicaoc.org/wp-content/uploads/2021/02/40-Days-Img-3_22.jpg
GEO:39.1264137;-84.5078401
X-APPLE-STRUCTURED-LOCATION;VALUE=URI;X-ADDRESS=Holy Name Catholic Church 2448 Auburn Ave Cincinnati Ohio 45219;X-APPLE-RADIUS=500;X-TITLE=2448 Auburn Ave:geo:-84.5078401,39.1264137
END:VEVENT
BEGIN:VEVENT
DTSTART;TZID=UTC:20210214T140000
DTEND;TZID=UTC:20210214T150000
DTSTAMP:20260426T043540
CREATED:20210209T170613Z
LAST-MODIFIED:20210209T172229Z
UID:21951-1613311200-1613314800@resources.catholicaoc.org
SUMMARY:40 Days for Life Kick-Off Rally (Cincinnati)
DESCRIPTION:Join us for the kickoff to the spring/Lenten campaign. We welcome our speaker\, Fr. Ethan Moore\, pastor of Holy Name Church. Come for song\, prayer and all the details about how you can sign up to be part of our daily 7am to 7pm vigil prayer in front of planned parenthood throughout the forty-day campaign. Flyers and materials to help you get your church involved in the campaign will be available. After beginning the hour at church\, we will have a silent procession to planned parenthood (2 blocks from the church) where we will spend some time in prayer and then return to church to conclude the hour. If you are unable to make the walk to planned parenthood\, please still come. You may remain in church until the conclusion of the rally. Families welcome. No sign up necessary for this event. Parking in church parking lot.
URL:https://resources.catholicaoc.org/event/40-days-for-life-kick-off-rally-cincinnati
LOCATION:Holy Name Catholic Church\, 2448 Auburn Ave\, Cincinnati\, Ohio\, 45219
CATEGORIES:Respect Life
ATTACH;FMTTYPE=image/jpeg:https://resources.catholicaoc.org/wp-content/uploads/2021/02/40-days-for-life.jpg
ORGANIZER;CN="40 Days for Life- Cincinnati":MAILTO:cincy40days@fuse.net
GEO:39.1264137;-84.5078401
X-APPLE-STRUCTURED-LOCATION;VALUE=URI;X-ADDRESS=Holy Name Catholic Church 2448 Auburn Ave Cincinnati Ohio 45219;X-APPLE-RADIUS=500;X-TITLE=2448 Auburn Ave:geo:-84.5078401,39.1264137
END:VEVENT
END:VCALENDAR