BEGIN:VCALENDAR
VERSION:2.0
PRODID:-//Archdiocese of Cincinnati - ECPv6.15.15//NONSGML v1.0//EN
CALSCALE:GREGORIAN
METHOD:PUBLISH
X-WR-CALNAME:Archdiocese of Cincinnati
X-ORIGINAL-URL:https://resources.catholicaoc.org
X-WR-CALDESC:Events for Archdiocese of Cincinnati
REFRESH-INTERVAL;VALUE=DURATION:PT1H
X-Robots-Tag:noindex
X-PUBLISHED-TTL:PT1H
BEGIN:VTIMEZONE
TZID:UTC
BEGIN:STANDARD
TZOFFSETFROM:+0000
TZOFFSETTO:+0000
TZNAME:UTC
DTSTART:20230101T000000
END:STANDARD
END:VTIMEZONE
BEGIN:VEVENT
DTSTART;TZID=UTC:20240420T080000
DTEND;TZID=UTC:20240420T130000
DTSTAMP:20260420T204829
CREATED:20240326T151145Z
LAST-MODIFIED:20240326T162446Z
UID:70010-1713600000-1713618000@resources.catholicaoc.org
SUMMARY:Heartbeats For Life 5K Run/Walk & Kids Dash
DESCRIPTION:Saturday\, April 20th\, 2024 at the Lunken Airport Playfield\, 4740 Playfield Lane\, Cincinnati\, OH 45226 \nRegistration Opens at 8 a.m.\nRace Starts at 10 a.m. \nJoin us for a family-friendly day of fun\, fellowship and life! Basket raffle\, food and live music! \nContact: Event Director\, Adam Schad\, 513-728-7870 \nRegister here \nMore information/Sponsorship info found here on Cincinnati Right to Life’s website. 
URL:https://resources.catholicaoc.org/event/heartbeats-for-life-5k-run-walk-kids-dash
LOCATION:Lunken Airport Playfield\, 4740 Playfield Lane\, Cincinnati\, OH 45226\, 4740 Playfield Lane\, Cincinnati\, OH\, 45226\, United States
CATEGORIES:Respect Life
ATTACH;FMTTYPE=image/png:https://resources.catholicaoc.org/wp-content/uploads/2024/03/5K-RunWalk-2024-1.png
GEO:39.1173559;-84.4126411
X-APPLE-STRUCTURED-LOCATION;VALUE=URI;X-ADDRESS=Lunken Airport Playfield 4740 Playfield Lane Cincinnati OH 45226 4740 Playfield Lane Cincinnati OH 45226 United States;X-APPLE-RADIUS=500;X-TITLE=4740 Playfield Lane:geo:-84.4126411,39.1173559
END:VEVENT
BEGIN:VEVENT
DTSTART;TZID=UTC:20240420T090000
DTEND;TZID=UTC:20240420T100000
DTSTAMP:20260420T204829
CREATED:20210209T170056Z
LAST-MODIFIED:20210209T170056Z
UID:103256-1713603600-1713607200@resources.catholicaoc.org
SUMMARY:Saturday Pro-Life Rosary Procession
DESCRIPTION:Gather at 9:00 a.m. every Saturday at Holy Name Church on Auburn Avenue\, followed by a rosary procession to Planned Parenthood.  For more info\, contact the Franciscan Daughters of Mary at hnchapelfdn@gmail.com. \n 
URL:https://resources.catholicaoc.org/event/saturday-pro-life-prayer-vigil/2024-04-20
LOCATION:Holy Name Catholic Church\, 2448 Auburn Ave\, Cincinnati\, Ohio\, 45219
CATEGORIES:Respect Life,March for Life
ATTACH;FMTTYPE=image/jpeg:https://resources.catholicaoc.org/wp-content/uploads/2021/02/40-Days-Img-3_22.jpg
GEO:39.1264137;-84.5078401
X-APPLE-STRUCTURED-LOCATION;VALUE=URI;X-ADDRESS=Holy Name Catholic Church 2448 Auburn Ave Cincinnati Ohio 45219;X-APPLE-RADIUS=500;X-TITLE=2448 Auburn Ave:geo:-84.5078401,39.1264137
END:VEVENT
BEGIN:VEVENT
DTSTART;TZID=UTC:20240427T090000
DTEND;TZID=UTC:20240427T100000
DTSTAMP:20260420T204829
CREATED:20210209T170056Z
LAST-MODIFIED:20210209T170056Z
UID:103257-1714208400-1714212000@resources.catholicaoc.org
SUMMARY:Saturday Pro-Life Rosary Procession
DESCRIPTION:Gather at 9:00 a.m. every Saturday at Holy Name Church on Auburn Avenue\, followed by a rosary procession to Planned Parenthood.  For more info\, contact the Franciscan Daughters of Mary at hnchapelfdn@gmail.com. \n 
URL:https://resources.catholicaoc.org/event/saturday-pro-life-prayer-vigil/2024-04-27
LOCATION:Holy Name Catholic Church\, 2448 Auburn Ave\, Cincinnati\, Ohio\, 45219
CATEGORIES:Respect Life,March for Life
ATTACH;FMTTYPE=image/jpeg:https://resources.catholicaoc.org/wp-content/uploads/2021/02/40-Days-Img-3_22.jpg
GEO:39.1264137;-84.5078401
X-APPLE-STRUCTURED-LOCATION;VALUE=URI;X-ADDRESS=Holy Name Catholic Church 2448 Auburn Ave Cincinnati Ohio 45219;X-APPLE-RADIUS=500;X-TITLE=2448 Auburn Ave:geo:-84.5078401,39.1264137
END:VEVENT
BEGIN:VEVENT
DTSTART;TZID=UTC:20240430T180000
DTEND;TZID=UTC:20240430T210000
DTSTAMP:20260420T204829
CREATED:20240326T152014Z
LAST-MODIFIED:20240326T152942Z
UID:70017-1714500000-1714510800@resources.catholicaoc.org
SUMMARY:Speak Out for Life: An Evening with Mark Houck
DESCRIPTION:Please join us for our Speak Out for LIFE–An Evening with Mark Houck fundraiser benefitting Dayton Right to Life Foundation! The event will take place at Victory Christian Church 2275 South Patterson Blvd. Kettering\, OH 45409 \nDoors Open: 6:00pm \nPrivate Reception 6:15pm-6:45pm \nEvent Begins: 7:00pm \nSPONSORSHIP INFORMATION: Contact Margie Christie at mchristie@daytonlife.org. \nRegister here. \nMore information found here on Dayton Right to Life’s website. \n  \nMark Houck Bio: \nIn September 2022\, Mark\, his wife\, Ryan-Marie\, and 7 young children made international news with an FBI invasion of their home. Mark was falsely charged with felony violations and faced 11 years in federal prison and $350\,000 in fines for his sidewalk counseling and for defending his 12 year-old son from an aggressive abortion escort. Mark was acquitted on all charges on January 30\, 2023. \nAs a result of his pro-life work\, Mark was the recipient of the Cardinal John O’Connor Defender of Life Award (Legatus 2022). He and his family were also named the Catholic Hero of the Year by Catholic Vote in 2022. \nMark has been featured on EWTN (TV & Radio)\, Fox News\, Fox & Friends\, Hannity\, Newsmax\, Relevant Radio\, Tucker Carlson\, Sirius XM Catholic Radio (Conversation with Cardinal & Gus Lloyd Show) and many other media sources. ©ambassadorspeakers.com
URL:https://resources.catholicaoc.org/event/speak-out-for-life-an-evening-with-mark-houck
LOCATION:Victory Christian Church\, 2275 South Patterson Blvd.\, Kettering\, OH\, 45409\, United States
CATEGORIES:Respect Life
ATTACH;FMTTYPE=image/jpeg:https://resources.catholicaoc.org/wp-content/uploads/2024/03/fc-thumbnail-mark-houck2024_orig.jpg
GEO:39.7212305;-84.1951223
X-APPLE-STRUCTURED-LOCATION;VALUE=URI;X-ADDRESS=Victory Christian Church 2275 South Patterson Blvd. Kettering OH 45409 United States;X-APPLE-RADIUS=500;X-TITLE=2275 South Patterson Blvd.:geo:-84.1951223,39.7212305
END:VEVENT
END:VCALENDAR