BEGIN:VCALENDAR
VERSION:2.0
PRODID:-//Archdiocese of Cincinnati - ECPv6.15.15//NONSGML v1.0//EN
CALSCALE:GREGORIAN
METHOD:PUBLISH
X-WR-CALNAME:Archdiocese of Cincinnati
X-ORIGINAL-URL:https://resources.catholicaoc.org
X-WR-CALDESC:Events for Archdiocese of Cincinnati
REFRESH-INTERVAL;VALUE=DURATION:PT1H
X-Robots-Tag:noindex
X-PUBLISHED-TTL:PT1H
BEGIN:VTIMEZONE
TZID:UTC
BEGIN:STANDARD
TZOFFSETFROM:+0000
TZOFFSETTO:+0000
TZNAME:UTC
DTSTART:20230101T000000
END:STANDARD
END:VTIMEZONE
BEGIN:VEVENT
DTSTART;TZID=UTC:20240925T070000
DTEND;TZID=UTC:20241103T190000
DTSTAMP:20260421T043728
CREATED:20240827T204924Z
LAST-MODIFIED:20240827T205024Z
UID:79276-1727247600-1730660400@resources.catholicaoc.org
SUMMARY:40 Days for Life Begins
DESCRIPTION:Join 40 Days for Life as they begin their Fall campaign on Sept. 25th until Nov. 3rd every day from 7am to 7pm. Sign up for the Cincinnati campaign by clicking here and sign up for the Dayton campaign by clicking here.
URL:https://resources.catholicaoc.org/event/40-days-for-life-begins
LOCATION:Ohio
CATEGORIES:Respect Life,March for Life
ATTACH;FMTTYPE=image/jpeg:https://resources.catholicaoc.org/wp-content/uploads/2024/06/40_days_for_life_logo.jpg
END:VEVENT
BEGIN:VEVENT
DTSTART;TZID=UTC:20241005T090000
DTEND;TZID=UTC:20241005T100000
DTSTAMP:20260421T043728
CREATED:20210209T170056Z
LAST-MODIFIED:20210209T170056Z
UID:103280-1728118800-1728122400@resources.catholicaoc.org
SUMMARY:Saturday Pro-Life Rosary Procession
DESCRIPTION:Gather at 9:00 a.m. every Saturday at Holy Name Church on Auburn Avenue\, followed by a rosary procession to Planned Parenthood.  For more info\, contact the Franciscan Daughters of Mary at hnchapelfdn@gmail.com. \n 
URL:https://resources.catholicaoc.org/event/saturday-pro-life-prayer-vigil/2024-10-05
LOCATION:Holy Name Catholic Church\, 2448 Auburn Ave\, Cincinnati\, Ohio\, 45219
CATEGORIES:Respect Life,March for Life
ATTACH;FMTTYPE=image/jpeg:https://resources.catholicaoc.org/wp-content/uploads/2021/02/40-Days-Img-3_22.jpg
GEO:39.1264137;-84.5078401
X-APPLE-STRUCTURED-LOCATION;VALUE=URI;X-ADDRESS=Holy Name Catholic Church 2448 Auburn Ave Cincinnati Ohio 45219;X-APPLE-RADIUS=500;X-TITLE=2448 Auburn Ave:geo:-84.5078401,39.1264137
END:VEVENT
BEGIN:VEVENT
DTSTART;TZID=UTC:20241005T092000
DTEND;TZID=UTC:20241005T100000
DTSTAMP:20260421T043728
CREATED:20240528T153530Z
LAST-MODIFIED:20240528T153530Z
UID:73943-1728120000-1728122400@resources.catholicaoc.org
SUMMARY:Rosary for Life
DESCRIPTION:Prayer\, Praise & Scripture\, Wednesdays at 11 AM \nRosary every Wednesday at 12 Noon \nRosary every Saturday at 9:20 AM
URL:https://resources.catholicaoc.org/event/rosary-for-life-3/2024-10-05
LOCATION:Women’s Med Center\, 1401 E. Stroop Road\, Kettering\, OH\, 45440
CATEGORIES:Respect Life,March for Life
ATTACH;FMTTYPE=image/jpeg:https://resources.catholicaoc.org/wp-content/uploads/2020/05/the-rosary-4978473_1920-e1714669990677.jpg
GEO:39.6891778;-84.1411692
X-APPLE-STRUCTURED-LOCATION;VALUE=URI;X-ADDRESS=Women’s Med Center 1401 E. Stroop Road Kettering OH 45440;X-APPLE-RADIUS=500;X-TITLE=1401 E. Stroop Road:geo:-84.1411692,39.6891778
END:VEVENT
BEGIN:VEVENT
DTSTART;TZID=UTC:20241006T140000
DTEND;TZID=UTC:20241006T150000
DTSTAMP:20260421T043728
CREATED:20240923T140001Z
LAST-MODIFIED:20240923T140803Z
UID:80291-1728223200-1728226800@resources.catholicaoc.org
SUMMARY:Respect Life Sunday Life Chain (Cincinnati)
DESCRIPTION:Each year\, Life Chains form in cities nationwide to make a public\, prayerful\, peaceful stand for Life. Meet at the canopy in front of St. Thomas More Catholic Church at 2pm. Signs and water provided. Bring a lawn chair or stand together on the sidewalk in prayer. Event will conclude at 3pm. Contact Ginette Barcomb with questions ginettebarcomb@yahoo.com.
URL:https://resources.catholicaoc.org/event/respect-life-sunday-life-chain
LOCATION:St. Thomas More Church\, 800 Ohio Pike\, Cincinnati\, Ohio\, 45245
CATEGORIES:Respect Life,March for Life
ATTACH;FMTTYPE=image/jpeg:https://resources.catholicaoc.org/wp-content/uploads/2024/09/Life-Chain.jpg
GEO:39.0653544;-84.2816626
X-APPLE-STRUCTURED-LOCATION;VALUE=URI;X-ADDRESS=St. Thomas More Church 800 Ohio Pike Cincinnati Ohio 45245;X-APPLE-RADIUS=500;X-TITLE=800 Ohio Pike:geo:-84.2816626,39.0653544
END:VEVENT
BEGIN:VEVENT
DTSTART;TZID=UTC:20241006T140000
DTEND;TZID=UTC:20241006T150000
DTSTAMP:20260421T043728
CREATED:20240923T142731Z
LAST-MODIFIED:20241001T153800Z
UID:80304-1728223200-1728226800@resources.catholicaoc.org
SUMMARY:Respect Life Sunday Life Chain (Troy)
DESCRIPTION:Join us for Sunday\, Oct. 6\, from 2:00 – 3:00 near the Court House on West Main St. in Troy for just one hour of your time for prayer and to show your support for the LIFE of the unborn\, the young\, the disabled\, the handicapped\, the ill and the elderly.  We will have our normal Life Chain signs for participants to hold.  For any questions\, please call Dave Enneking 937-726-7299.
URL:https://resources.catholicaoc.org/event/life-chain-event
LOCATION:Court House Troy OH\, West Main Street\, Troy\, Ohio\, 45373\, United States
CATEGORIES:Respect Life,March for Life
ATTACH;FMTTYPE=image/jpeg:https://resources.catholicaoc.org/wp-content/uploads/2024/09/Life-Chain.jpg
GEO:40.041179;-84.205266
X-APPLE-STRUCTURED-LOCATION;VALUE=URI;X-ADDRESS=Court House Troy OH West Main Street Troy Ohio 45373 United States;X-APPLE-RADIUS=500;X-TITLE=West Main Street:geo:-84.205266,40.041179
END:VEVENT
BEGIN:VEVENT
DTSTART;TZID=UTC:20241006T140000
DTEND;TZID=UTC:20241006T153000
DTSTAMP:20260421T043728
CREATED:20240923T140732Z
LAST-MODIFIED:20240923T140732Z
UID:80295-1728223200-1728228600@resources.catholicaoc.org
SUMMARY:Respect Life Sunday Life Chain (Dayton)
DESCRIPTION:Each year\, Life Chains form in cities nationwide to make a public\, prayerful\, peaceful stand for Life. The Miami Valley Life Chain takes place along East Stroop Road in Kettering where the only remaining surgical abortion facility remains in Southern Ohio. Signs can be picked up at the Main Check In Point located at the corner of E. Stroop and Vineyard. Contact Debbie Nieport with questions. (937) 829-4646 psalm27.dn@gmail.com
URL:https://resources.catholicaoc.org/event/respect-life-sunday-life-chain-2
LOCATION:Women’s Med Center\, 1401 E. Stroop Road\, Kettering\, OH\, 45440
CATEGORIES:Respect Life,March for Life
ATTACH;FMTTYPE=image/jpeg:https://resources.catholicaoc.org/wp-content/uploads/2024/09/Life-Chain.jpg
GEO:39.6891778;-84.1411692
X-APPLE-STRUCTURED-LOCATION;VALUE=URI;X-ADDRESS=Women’s Med Center 1401 E. Stroop Road Kettering OH 45440;X-APPLE-RADIUS=500;X-TITLE=1401 E. Stroop Road:geo:-84.1411692,39.6891778
END:VEVENT
BEGIN:VEVENT
DTSTART;TZID=UTC:20241012T090000
DTEND;TZID=UTC:20241012T100000
DTSTAMP:20260421T043728
CREATED:20210209T170056Z
LAST-MODIFIED:20210209T170056Z
UID:103281-1728723600-1728727200@resources.catholicaoc.org
SUMMARY:Saturday Pro-Life Rosary Procession
DESCRIPTION:Gather at 9:00 a.m. every Saturday at Holy Name Church on Auburn Avenue\, followed by a rosary procession to Planned Parenthood.  For more info\, contact the Franciscan Daughters of Mary at hnchapelfdn@gmail.com. \n 
URL:https://resources.catholicaoc.org/event/saturday-pro-life-prayer-vigil/2024-10-12
LOCATION:Holy Name Catholic Church\, 2448 Auburn Ave\, Cincinnati\, Ohio\, 45219
CATEGORIES:Respect Life,March for Life
ATTACH;FMTTYPE=image/jpeg:https://resources.catholicaoc.org/wp-content/uploads/2021/02/40-Days-Img-3_22.jpg
GEO:39.1264137;-84.5078401
X-APPLE-STRUCTURED-LOCATION;VALUE=URI;X-ADDRESS=Holy Name Catholic Church 2448 Auburn Ave Cincinnati Ohio 45219;X-APPLE-RADIUS=500;X-TITLE=2448 Auburn Ave:geo:-84.5078401,39.1264137
END:VEVENT
BEGIN:VEVENT
DTSTART;TZID=UTC:20241012T092000
DTEND;TZID=UTC:20241012T100000
DTSTAMP:20260421T043728
CREATED:20240528T153530Z
LAST-MODIFIED:20240528T153530Z
UID:73944-1728724800-1728727200@resources.catholicaoc.org
SUMMARY:Rosary for Life
DESCRIPTION:Prayer\, Praise & Scripture\, Wednesdays at 11 AM \nRosary every Wednesday at 12 Noon \nRosary every Saturday at 9:20 AM
URL:https://resources.catholicaoc.org/event/rosary-for-life-3/2024-10-12
LOCATION:Women’s Med Center\, 1401 E. Stroop Road\, Kettering\, OH\, 45440
CATEGORIES:Respect Life,March for Life
ATTACH;FMTTYPE=image/jpeg:https://resources.catholicaoc.org/wp-content/uploads/2020/05/the-rosary-4978473_1920-e1714669990677.jpg
GEO:39.6891778;-84.1411692
X-APPLE-STRUCTURED-LOCATION;VALUE=URI;X-ADDRESS=Women’s Med Center 1401 E. Stroop Road Kettering OH 45440;X-APPLE-RADIUS=500;X-TITLE=1401 E. Stroop Road:geo:-84.1411692,39.6891778
END:VEVENT
BEGIN:VEVENT
DTSTART;TZID=UTC:20241012T100000
DTEND;TZID=UTC:20241012T140000
DTSTAMP:20260421T043728
CREATED:20241003T031038Z
LAST-MODIFIED:20241003T031118Z
UID:81044-1728727200-1728741600@resources.catholicaoc.org
SUMMARY:Monthly Prayer Outside Planned Parenthood Hamilton
DESCRIPTION:Join Sidewalk Advocates For Life and Butler County Right to Life members as they pray outside the Planned Parenthood in Hamilton every 2nd Saturday of the month from 10AM to 2PM. \n\nNow more than EVER\, women in crisis need people like you to show compassion and share life-affirming resources in a time of need. Learn how to help abortion vulnerable mothers CHOOSE LIFE using the peaceful\, prayerful\, proven method of Sidewalk Advocates for Life. A comprehensive\, free training is available. Contact Jackie at Hamiltonsafl@gmail.com for more information.
URL:https://resources.catholicaoc.org/event/monthly-prayer-outside-planned-parenthood-hamilton/2024-10-12
LOCATION:Planned Parenthood- Hamilton\, 110 Ludlow Street\, Hamilton\, Ohio\, 45011
CATEGORIES:Respect Life,March for Life
ATTACH;FMTTYPE=image/jpeg:https://resources.catholicaoc.org/wp-content/uploads/2024/10/61315225_2293304094039683_4824864714414620672_n.jpg
GEO:39.398369;-84.5639768
X-APPLE-STRUCTURED-LOCATION;VALUE=URI;X-ADDRESS=Planned Parenthood- Hamilton 110 Ludlow Street Hamilton Ohio 45011;X-APPLE-RADIUS=500;X-TITLE=110 Ludlow Street:geo:-84.5639768,39.398369
END:VEVENT
BEGIN:VEVENT
DTSTART;TZID=UTC:20241019T090000
DTEND;TZID=UTC:20241019T100000
DTSTAMP:20260421T043728
CREATED:20210209T170056Z
LAST-MODIFIED:20210209T170056Z
UID:103282-1729328400-1729332000@resources.catholicaoc.org
SUMMARY:Saturday Pro-Life Rosary Procession
DESCRIPTION:Gather at 9:00 a.m. every Saturday at Holy Name Church on Auburn Avenue\, followed by a rosary procession to Planned Parenthood.  For more info\, contact the Franciscan Daughters of Mary at hnchapelfdn@gmail.com. \n 
URL:https://resources.catholicaoc.org/event/saturday-pro-life-prayer-vigil/2024-10-19
LOCATION:Holy Name Catholic Church\, 2448 Auburn Ave\, Cincinnati\, Ohio\, 45219
CATEGORIES:Respect Life,March for Life
ATTACH;FMTTYPE=image/jpeg:https://resources.catholicaoc.org/wp-content/uploads/2021/02/40-Days-Img-3_22.jpg
GEO:39.1264137;-84.5078401
X-APPLE-STRUCTURED-LOCATION;VALUE=URI;X-ADDRESS=Holy Name Catholic Church 2448 Auburn Ave Cincinnati Ohio 45219;X-APPLE-RADIUS=500;X-TITLE=2448 Auburn Ave:geo:-84.5078401,39.1264137
END:VEVENT
BEGIN:VEVENT
DTSTART;TZID=UTC:20241019T092000
DTEND;TZID=UTC:20241019T100000
DTSTAMP:20260421T043728
CREATED:20240528T153530Z
LAST-MODIFIED:20240528T153530Z
UID:73945-1729329600-1729332000@resources.catholicaoc.org
SUMMARY:Rosary for Life
DESCRIPTION:Prayer\, Praise & Scripture\, Wednesdays at 11 AM \nRosary every Wednesday at 12 Noon \nRosary every Saturday at 9:20 AM
URL:https://resources.catholicaoc.org/event/rosary-for-life-3/2024-10-19
LOCATION:Women’s Med Center\, 1401 E. Stroop Road\, Kettering\, OH\, 45440
CATEGORIES:Respect Life,March for Life
ATTACH;FMTTYPE=image/jpeg:https://resources.catholicaoc.org/wp-content/uploads/2020/05/the-rosary-4978473_1920-e1714669990677.jpg
GEO:39.6891778;-84.1411692
X-APPLE-STRUCTURED-LOCATION;VALUE=URI;X-ADDRESS=Women’s Med Center 1401 E. Stroop Road Kettering OH 45440;X-APPLE-RADIUS=500;X-TITLE=1401 E. Stroop Road:geo:-84.1411692,39.6891778
END:VEVENT
BEGIN:VEVENT
DTSTART;TZID=UTC:20241026T090000
DTEND;TZID=UTC:20241026T100000
DTSTAMP:20260421T043728
CREATED:20210209T170056Z
LAST-MODIFIED:20210209T170056Z
UID:103283-1729933200-1729936800@resources.catholicaoc.org
SUMMARY:Saturday Pro-Life Rosary Procession
DESCRIPTION:Gather at 9:00 a.m. every Saturday at Holy Name Church on Auburn Avenue\, followed by a rosary procession to Planned Parenthood.  For more info\, contact the Franciscan Daughters of Mary at hnchapelfdn@gmail.com. \n 
URL:https://resources.catholicaoc.org/event/saturday-pro-life-prayer-vigil/2024-10-26
LOCATION:Holy Name Catholic Church\, 2448 Auburn Ave\, Cincinnati\, Ohio\, 45219
CATEGORIES:Respect Life,March for Life
ATTACH;FMTTYPE=image/jpeg:https://resources.catholicaoc.org/wp-content/uploads/2021/02/40-Days-Img-3_22.jpg
GEO:39.1264137;-84.5078401
X-APPLE-STRUCTURED-LOCATION;VALUE=URI;X-ADDRESS=Holy Name Catholic Church 2448 Auburn Ave Cincinnati Ohio 45219;X-APPLE-RADIUS=500;X-TITLE=2448 Auburn Ave:geo:-84.5078401,39.1264137
END:VEVENT
BEGIN:VEVENT
DTSTART;TZID=UTC:20241026T092000
DTEND;TZID=UTC:20241026T100000
DTSTAMP:20260421T043728
CREATED:20240528T153530Z
LAST-MODIFIED:20240528T153530Z
UID:73946-1729934400-1729936800@resources.catholicaoc.org
SUMMARY:Rosary for Life
DESCRIPTION:Prayer\, Praise & Scripture\, Wednesdays at 11 AM \nRosary every Wednesday at 12 Noon \nRosary every Saturday at 9:20 AM
URL:https://resources.catholicaoc.org/event/rosary-for-life-3/2024-10-26
LOCATION:Women’s Med Center\, 1401 E. Stroop Road\, Kettering\, OH\, 45440
CATEGORIES:Respect Life,March for Life
ATTACH;FMTTYPE=image/jpeg:https://resources.catholicaoc.org/wp-content/uploads/2020/05/the-rosary-4978473_1920-e1714669990677.jpg
GEO:39.6891778;-84.1411692
X-APPLE-STRUCTURED-LOCATION;VALUE=URI;X-ADDRESS=Women’s Med Center 1401 E. Stroop Road Kettering OH 45440;X-APPLE-RADIUS=500;X-TITLE=1401 E. Stroop Road:geo:-84.1411692,39.6891778
END:VEVENT
END:VCALENDAR