BEGIN:VCALENDAR
VERSION:2.0
PRODID:-//Archdiocese of Cincinnati - ECPv6.15.15//NONSGML v1.0//EN
CALSCALE:GREGORIAN
METHOD:PUBLISH
X-WR-CALNAME:Archdiocese of Cincinnati
X-ORIGINAL-URL:https://resources.catholicaoc.org
X-WR-CALDESC:Events for Archdiocese of Cincinnati
REFRESH-INTERVAL;VALUE=DURATION:PT1H
X-Robots-Tag:noindex
X-PUBLISHED-TTL:PT1H
BEGIN:VTIMEZONE
TZID:UTC
BEGIN:STANDARD
TZOFFSETFROM:+0000
TZOFFSETTO:+0000
TZNAME:UTC
DTSTART:20250101T000000
END:STANDARD
END:VTIMEZONE
BEGIN:VEVENT
DTSTART;TZID=UTC:20260307T090000
DTEND;TZID=UTC:20260307T100000
DTSTAMP:20260419T183425
CREATED:20210209T170056Z
LAST-MODIFIED:20210209T170056Z
UID:103354-1772874000-1772877600@resources.catholicaoc.org
SUMMARY:Saturday Pro-Life Rosary Procession
DESCRIPTION:Gather at 9:00 a.m. every Saturday at Holy Name Church on Auburn Avenue\, followed by a rosary procession to Planned Parenthood.  For more info\, contact the Franciscan Daughters of Mary at hnchapelfdn@gmail.com. \n 
URL:https://resources.catholicaoc.org/event/saturday-pro-life-prayer-vigil/2026-03-07
LOCATION:Holy Name Catholic Church\, 2448 Auburn Ave\, Cincinnati\, Ohio\, 45219
CATEGORIES:Respect Life,March for Life
ATTACH;FMTTYPE=image/jpeg:https://resources.catholicaoc.org/wp-content/uploads/2021/02/40-Days-Img-3_22.jpg
GEO:39.1264137;-84.5078401
X-APPLE-STRUCTURED-LOCATION;VALUE=URI;X-ADDRESS=Holy Name Catholic Church 2448 Auburn Ave Cincinnati Ohio 45219;X-APPLE-RADIUS=500;X-TITLE=2448 Auburn Ave:geo:-84.5078401,39.1264137
END:VEVENT
BEGIN:VEVENT
DTSTART;TZID=UTC:20260307T090000
DTEND;TZID=UTC:20260307T150000
DTSTAMP:20260419T183425
CREATED:20260202T022921Z
LAST-MODIFIED:20260227T161034Z
UID:102770-1772874000-1772895600@resources.catholicaoc.org
SUMMARY:Respect Life Ministers Training
DESCRIPTION:Respect Life Ministers Training Days\nPlease join us for the Respect Life Ministers Training Days on March 7 and March 14. \nSIGN UP HERE:\nRespect Life Ministers Training Day Registration 2026 – Fill out form \nBoth events begin at 9:30 am\, doors open at 9:00 am\, and the event concludes at 3:00 pm. Mass and lunch are included. \nLocations\n\nMarch 7: St. John the Baptist\, Tipp City\nMarch 14: Good Shepherd\, Cincinnati\n\nIn collaboration with the Center for the New Evangelization\, we are welcoming Shane Legg to lead sessions on recruiting volunteers and effective marketing and communication. Representatives from Cincinnati Right to Life and Dayton Right to Life will also provide legislative updates. \nBreakout sessions will allow you to choose the most applicable topics to your work. \n\nCollaborating effectively with pastors\, led by an Archdiocesan priest\nA Walking with Moms in Need panel featuring representatives from parish programs\nEducational sessions on post-abortion healing\, end of life issues\, and pro-life apologetics\n\nWe truly hope to see you there. Please help spread the word within your ministries. This training is open to all leaders and volunteers involved in Respect Life Ministries and Walking with Moms in Need. \nSIGN UP HERE:\nRespect Life Ministers Training Day Registration 2026 – Fill out form \nPlease reach out to ebranscum@catholicaoc.org if you have any questions.
URL:https://resources.catholicaoc.org/event/respect-life-ministers-training
LOCATION:St. John the Baptist (Tipp City)\, 753 S. Hyatt St.\, Tipp City\, OH\, 45371
CATEGORIES:Respect Life,March for Life
ATTACH;FMTTYPE=image/jpeg:https://resources.catholicaoc.org/wp-content/uploads/2024/03/ft-membership-2409477749.jpg
GEO:39.9510464;-84.1759693
X-APPLE-STRUCTURED-LOCATION;VALUE=URI;X-ADDRESS=St. John the Baptist (Tipp City) 753 S. Hyatt St. Tipp City OH 45371;X-APPLE-RADIUS=500;X-TITLE=753 S. Hyatt St.:geo:-84.1759693,39.9510464
END:VEVENT
BEGIN:VEVENT
DTSTART;TZID=UTC:20260307T092000
DTEND;TZID=UTC:20260307T100000
DTSTAMP:20260419T183425
CREATED:20240528T153530Z
LAST-MODIFIED:20240528T153530Z
UID:74017-1772875200-1772877600@resources.catholicaoc.org
SUMMARY:Rosary for Life
DESCRIPTION:Prayer\, Praise & Scripture\, Wednesdays at 11 AM \nRosary every Wednesday at 12 Noon \nRosary every Saturday at 9:20 AM
URL:https://resources.catholicaoc.org/event/rosary-for-life-3/2026-03-07
LOCATION:Women’s Med Center\, 1401 E. Stroop Road\, Kettering\, OH\, 45440
CATEGORIES:Respect Life,March for Life
ATTACH;FMTTYPE=image/jpeg:https://resources.catholicaoc.org/wp-content/uploads/2020/05/the-rosary-4978473_1920-e1714669990677.jpg
GEO:39.6891778;-84.1411692
X-APPLE-STRUCTURED-LOCATION;VALUE=URI;X-ADDRESS=Women’s Med Center 1401 E. Stroop Road Kettering OH 45440;X-APPLE-RADIUS=500;X-TITLE=1401 E. Stroop Road:geo:-84.1411692,39.6891778
END:VEVENT
BEGIN:VEVENT
DTSTART;TZID=UTC:20260314T090000
DTEND;TZID=UTC:20260314T100000
DTSTAMP:20260419T183425
CREATED:20210209T170056Z
LAST-MODIFIED:20210209T170056Z
UID:103355-1773478800-1773482400@resources.catholicaoc.org
SUMMARY:Saturday Pro-Life Rosary Procession
DESCRIPTION:Gather at 9:00 a.m. every Saturday at Holy Name Church on Auburn Avenue\, followed by a rosary procession to Planned Parenthood.  For more info\, contact the Franciscan Daughters of Mary at hnchapelfdn@gmail.com. \n 
URL:https://resources.catholicaoc.org/event/saturday-pro-life-prayer-vigil/2026-03-14
LOCATION:Holy Name Catholic Church\, 2448 Auburn Ave\, Cincinnati\, Ohio\, 45219
CATEGORIES:Respect Life,March for Life
ATTACH;FMTTYPE=image/jpeg:https://resources.catholicaoc.org/wp-content/uploads/2021/02/40-Days-Img-3_22.jpg
GEO:39.1264137;-84.5078401
X-APPLE-STRUCTURED-LOCATION;VALUE=URI;X-ADDRESS=Holy Name Catholic Church 2448 Auburn Ave Cincinnati Ohio 45219;X-APPLE-RADIUS=500;X-TITLE=2448 Auburn Ave:geo:-84.5078401,39.1264137
END:VEVENT
BEGIN:VEVENT
DTSTART;TZID=UTC:20260314T090000
DTEND;TZID=UTC:20260314T150000
DTSTAMP:20260419T183425
CREATED:20260202T023118Z
LAST-MODIFIED:20260227T153928Z
UID:102772-1773478800-1773500400@resources.catholicaoc.org
SUMMARY:Respect Life Ministers Training
DESCRIPTION:Respect Life Ministers Training Days\nPlease join us for the Respect Life Ministers Training Days on March 7 and March 14. \nSIGN UP HERE:\nRespect Life Ministers Training Day Registration 2026 – Fill out form \nBoth events begin at 9:30 am\, doors open at 9:00 am\, and the event concludes at 3:00 pm. Mass and lunch are included. \nLocations\n\nMarch 7: St. John the Baptist\, Tipp City\nMarch 14: Good Shepherd\, Cincinnati\n\nIn collaboration with the Center for the New Evangelization\, we are welcoming Shane Legg to lead sessions on recruiting volunteers and effective marketing and communication. Representatives from Cincinnati Right to Life and Dayton Right to Life will also provide legislative updates. \nBreakout sessions will allow you to choose the most applicable topics to your work. \n\nCollaborating effectively with pastors\, led by an Archdiocesan priest\nA Walking with Moms in Need panel featuring representatives from parish programs\nEducational sessions on post-abortion healing\, end of life issues\, and pro-life apologetics\n\nWe truly hope to see you there. Please help spread the word within your ministries. This training is open to all leaders and volunteers involved in Respect Life Ministries and Walking with Moms in Need. \nSIGN UP HERE:\nRespect Life Ministers Training Day Registration 2026 – Fill out form \nPlease reach out to ebranscum@catholicaoc.org if you have any questions.
URL:https://resources.catholicaoc.org/event/respect-life-ministers-training-2
LOCATION:Good Shepherd Parish\, 8815 East Kemper Road\, Cincinnati\, Ohio\, 45249
CATEGORIES:Respect Life,March for Life
ATTACH;FMTTYPE=image/jpeg:https://resources.catholicaoc.org/wp-content/uploads/2024/03/ft-membership-2409477749.jpg
ORGANIZER;CN="Office for Respect Life Ministries":MAILTO:respectlife@catholicaoc.org
GEO:39.266006;-84.3196521
X-APPLE-STRUCTURED-LOCATION;VALUE=URI;X-ADDRESS=Good Shepherd Parish 8815 East Kemper Road Cincinnati Ohio 45249;X-APPLE-RADIUS=500;X-TITLE=8815 East Kemper Road:geo:-84.3196521,39.266006
END:VEVENT
BEGIN:VEVENT
DTSTART;TZID=UTC:20260314T092000
DTEND;TZID=UTC:20260314T100000
DTSTAMP:20260419T183425
CREATED:20240528T153530Z
LAST-MODIFIED:20240528T153530Z
UID:74018-1773480000-1773482400@resources.catholicaoc.org
SUMMARY:Rosary for Life
DESCRIPTION:Prayer\, Praise & Scripture\, Wednesdays at 11 AM \nRosary every Wednesday at 12 Noon \nRosary every Saturday at 9:20 AM
URL:https://resources.catholicaoc.org/event/rosary-for-life-3/2026-03-14
LOCATION:Women’s Med Center\, 1401 E. Stroop Road\, Kettering\, OH\, 45440
CATEGORIES:Respect Life,March for Life
ATTACH;FMTTYPE=image/jpeg:https://resources.catholicaoc.org/wp-content/uploads/2020/05/the-rosary-4978473_1920-e1714669990677.jpg
GEO:39.6891778;-84.1411692
X-APPLE-STRUCTURED-LOCATION;VALUE=URI;X-ADDRESS=Women’s Med Center 1401 E. Stroop Road Kettering OH 45440;X-APPLE-RADIUS=500;X-TITLE=1401 E. Stroop Road:geo:-84.1411692,39.6891778
END:VEVENT
BEGIN:VEVENT
DTSTART;TZID=UTC:20260314T100000
DTEND;TZID=UTC:20260314T140000
DTSTAMP:20260419T183425
CREATED:20241003T031038Z
LAST-MODIFIED:20241003T031129Z
UID:81063-1773482400-1773496800@resources.catholicaoc.org
SUMMARY:Monthly Prayer Outside Planned Parenthood Hamilton
DESCRIPTION:Join Sidewalk Advocates For Life and Butler County Right to Life members as they pray outside the Planned Parenthood in Hamilton every 2nd Saturday of the month from 10AM to 2PM. \n\nNow more than EVER\, women in crisis need people like you to show compassion and share life-affirming resources in a time of need. Learn how to help abortion vulnerable mothers CHOOSE LIFE using the peaceful\, prayerful\, proven method of Sidewalk Advocates for Life. A comprehensive\, free training is available. Contact Jackie at Hamiltonsafl@gmail.com for more information.
URL:https://resources.catholicaoc.org/event/monthly-prayer-outside-planned-parenthood-hamilton/2026-03-14
LOCATION:Planned Parenthood- Hamilton\, 110 Ludlow Street\, Hamilton\, Ohio\, 45011
CATEGORIES:Respect Life,March for Life
ATTACH;FMTTYPE=image/jpeg:https://resources.catholicaoc.org/wp-content/uploads/2024/10/61315225_2293304094039683_4824864714414620672_n.jpg
GEO:39.398369;-84.5639768
X-APPLE-STRUCTURED-LOCATION;VALUE=URI;X-ADDRESS=Planned Parenthood- Hamilton 110 Ludlow Street Hamilton Ohio 45011;X-APPLE-RADIUS=500;X-TITLE=110 Ludlow Street:geo:-84.5639768,39.398369
END:VEVENT
BEGIN:VEVENT
DTSTART;TZID=UTC:20260321T090000
DTEND;TZID=UTC:20260321T100000
DTSTAMP:20260419T183425
CREATED:20210209T170056Z
LAST-MODIFIED:20210209T170056Z
UID:103356-1774083600-1774087200@resources.catholicaoc.org
SUMMARY:Saturday Pro-Life Rosary Procession
DESCRIPTION:Gather at 9:00 a.m. every Saturday at Holy Name Church on Auburn Avenue\, followed by a rosary procession to Planned Parenthood.  For more info\, contact the Franciscan Daughters of Mary at hnchapelfdn@gmail.com. \n 
URL:https://resources.catholicaoc.org/event/saturday-pro-life-prayer-vigil/2026-03-21
LOCATION:Holy Name Catholic Church\, 2448 Auburn Ave\, Cincinnati\, Ohio\, 45219
CATEGORIES:Respect Life,March for Life
ATTACH;FMTTYPE=image/jpeg:https://resources.catholicaoc.org/wp-content/uploads/2021/02/40-Days-Img-3_22.jpg
GEO:39.1264137;-84.5078401
X-APPLE-STRUCTURED-LOCATION;VALUE=URI;X-ADDRESS=Holy Name Catholic Church 2448 Auburn Ave Cincinnati Ohio 45219;X-APPLE-RADIUS=500;X-TITLE=2448 Auburn Ave:geo:-84.5078401,39.1264137
END:VEVENT
BEGIN:VEVENT
DTSTART;TZID=UTC:20260321T092000
DTEND;TZID=UTC:20260321T100000
DTSTAMP:20260419T183425
CREATED:20240528T153530Z
LAST-MODIFIED:20240528T153530Z
UID:74019-1774084800-1774087200@resources.catholicaoc.org
SUMMARY:Rosary for Life
DESCRIPTION:Prayer\, Praise & Scripture\, Wednesdays at 11 AM \nRosary every Wednesday at 12 Noon \nRosary every Saturday at 9:20 AM
URL:https://resources.catholicaoc.org/event/rosary-for-life-3/2026-03-21
LOCATION:Women’s Med Center\, 1401 E. Stroop Road\, Kettering\, OH\, 45440
CATEGORIES:Respect Life,March for Life
ATTACH;FMTTYPE=image/jpeg:https://resources.catholicaoc.org/wp-content/uploads/2020/05/the-rosary-4978473_1920-e1714669990677.jpg
GEO:39.6891778;-84.1411692
X-APPLE-STRUCTURED-LOCATION;VALUE=URI;X-ADDRESS=Women’s Med Center 1401 E. Stroop Road Kettering OH 45440;X-APPLE-RADIUS=500;X-TITLE=1401 E. Stroop Road:geo:-84.1411692,39.6891778
END:VEVENT
BEGIN:VEVENT
DTSTART;TZID=UTC:20260328T090000
DTEND;TZID=UTC:20260328T100000
DTSTAMP:20260419T183425
CREATED:20210209T170056Z
LAST-MODIFIED:20210209T170056Z
UID:103357-1774688400-1774692000@resources.catholicaoc.org
SUMMARY:Saturday Pro-Life Rosary Procession
DESCRIPTION:Gather at 9:00 a.m. every Saturday at Holy Name Church on Auburn Avenue\, followed by a rosary procession to Planned Parenthood.  For more info\, contact the Franciscan Daughters of Mary at hnchapelfdn@gmail.com. \n 
URL:https://resources.catholicaoc.org/event/saturday-pro-life-prayer-vigil/2026-03-28
LOCATION:Holy Name Catholic Church\, 2448 Auburn Ave\, Cincinnati\, Ohio\, 45219
CATEGORIES:Respect Life,March for Life
ATTACH;FMTTYPE=image/jpeg:https://resources.catholicaoc.org/wp-content/uploads/2021/02/40-Days-Img-3_22.jpg
GEO:39.1264137;-84.5078401
X-APPLE-STRUCTURED-LOCATION;VALUE=URI;X-ADDRESS=Holy Name Catholic Church 2448 Auburn Ave Cincinnati Ohio 45219;X-APPLE-RADIUS=500;X-TITLE=2448 Auburn Ave:geo:-84.5078401,39.1264137
END:VEVENT
BEGIN:VEVENT
DTSTART;TZID=UTC:20260328T092000
DTEND;TZID=UTC:20260328T100000
DTSTAMP:20260419T183425
CREATED:20240528T153530Z
LAST-MODIFIED:20240528T153530Z
UID:74020-1774689600-1774692000@resources.catholicaoc.org
SUMMARY:Rosary for Life
DESCRIPTION:Prayer\, Praise & Scripture\, Wednesdays at 11 AM \nRosary every Wednesday at 12 Noon \nRosary every Saturday at 9:20 AM
URL:https://resources.catholicaoc.org/event/rosary-for-life-3/2026-03-28
LOCATION:Women’s Med Center\, 1401 E. Stroop Road\, Kettering\, OH\, 45440
CATEGORIES:Respect Life,March for Life
ATTACH;FMTTYPE=image/jpeg:https://resources.catholicaoc.org/wp-content/uploads/2020/05/the-rosary-4978473_1920-e1714669990677.jpg
GEO:39.6891778;-84.1411692
X-APPLE-STRUCTURED-LOCATION;VALUE=URI;X-ADDRESS=Women’s Med Center 1401 E. Stroop Road Kettering OH 45440;X-APPLE-RADIUS=500;X-TITLE=1401 E. Stroop Road:geo:-84.1411692,39.6891778
END:VEVENT
END:VCALENDAR