BEGIN:VCALENDAR
VERSION:2.0
PRODID:-//Archdiocese of Cincinnati - ECPv6.15.15//NONSGML v1.0//EN
CALSCALE:GREGORIAN
METHOD:PUBLISH
X-WR-CALNAME:Archdiocese of Cincinnati
X-ORIGINAL-URL:https://resources.catholicaoc.org
X-WR-CALDESC:Events for Archdiocese of Cincinnati
REFRESH-INTERVAL;VALUE=DURATION:PT1H
X-Robots-Tag:noindex
X-PUBLISHED-TTL:PT1H
BEGIN:VTIMEZONE
TZID:UTC
BEGIN:STANDARD
TZOFFSETFROM:+0000
TZOFFSETTO:+0000
TZNAME:UTC
DTSTART:20230101T000000
END:STANDARD
END:VTIMEZONE
BEGIN:VEVENT
DTSTART;TZID=UTC:20240726T190000
DTEND;TZID=UTC:20240726T200000
DTSTAMP:20260423T023025
CREATED:20240629T010243Z
LAST-MODIFIED:20240629T010645Z
UID:75497-1722020400-1722024000@resources.catholicaoc.org
SUMMARY:Last Friday Prayer Outside Planned Parenthood
DESCRIPTION:Join 40 Days for Life from 7pm to 8pm outside Planned Parenthood on Auburn Ave. in Cincinnati in prayer to end abortion. Parking is available at Holy Name Church (2422 Auburn Ave). Contact Mary Clark with questions cincy40days@fuse.net. \n 
URL:https://resources.catholicaoc.org/event/last-friday-prayer-outside-planned-parenthood
LOCATION:Planned Parenthood\, 2314 Auburn Ave\, Cincinnati\, OH\, 45219\, United States
CATEGORIES:Respect Life
ATTACH;FMTTYPE=image/jpeg:https://resources.catholicaoc.org/wp-content/uploads/2024/06/40_days_for_life_logo.jpg
ORGANIZER;CN="40 Days for Life- Cincinnati":MAILTO:cincy40days@fuse.net
GEO:39.1237882;-84.5080449
X-APPLE-STRUCTURED-LOCATION;VALUE=URI;X-ADDRESS=Planned Parenthood 2314 Auburn Ave Cincinnati OH 45219 United States;X-APPLE-RADIUS=500;X-TITLE=2314 Auburn Ave:geo:-84.5080449,39.1237882
END:VEVENT
BEGIN:VEVENT
DTSTART;TZID=UTC:20240727T090000
DTEND;TZID=UTC:20240727T100000
DTSTAMP:20260423T023025
CREATED:20210209T170056Z
LAST-MODIFIED:20210209T170056Z
UID:103270-1722070800-1722074400@resources.catholicaoc.org
SUMMARY:Saturday Pro-Life Rosary Procession
DESCRIPTION:Gather at 9:00 a.m. every Saturday at Holy Name Church on Auburn Avenue\, followed by a rosary procession to Planned Parenthood.  For more info\, contact the Franciscan Daughters of Mary at hnchapelfdn@gmail.com. \n 
URL:https://resources.catholicaoc.org/event/saturday-pro-life-prayer-vigil/2024-07-27
LOCATION:Holy Name Catholic Church\, 2448 Auburn Ave\, Cincinnati\, Ohio\, 45219
CATEGORIES:Respect Life,March for Life
ATTACH;FMTTYPE=image/jpeg:https://resources.catholicaoc.org/wp-content/uploads/2021/02/40-Days-Img-3_22.jpg
GEO:39.1264137;-84.5078401
X-APPLE-STRUCTURED-LOCATION;VALUE=URI;X-ADDRESS=Holy Name Catholic Church 2448 Auburn Ave Cincinnati Ohio 45219;X-APPLE-RADIUS=500;X-TITLE=2448 Auburn Ave:geo:-84.5078401,39.1264137
END:VEVENT
BEGIN:VEVENT
DTSTART;TZID=UTC:20240727T092000
DTEND;TZID=UTC:20240727T100000
DTSTAMP:20260423T023025
CREATED:20240528T153530Z
LAST-MODIFIED:20240528T153530Z
UID:73932-1722072000-1722074400@resources.catholicaoc.org
SUMMARY:Rosary for Life
DESCRIPTION:Prayer\, Praise & Scripture\, Wednesdays at 11 AM \nRosary every Wednesday at 12 Noon \nRosary every Saturday at 9:20 AM
URL:https://resources.catholicaoc.org/event/rosary-for-life-3/2024-07-27
LOCATION:Women’s Med Center\, 1401 E. Stroop Road\, Kettering\, OH\, 45440
CATEGORIES:Respect Life,March for Life
ATTACH;FMTTYPE=image/jpeg:https://resources.catholicaoc.org/wp-content/uploads/2020/05/the-rosary-4978473_1920-e1714669990677.jpg
GEO:39.6891778;-84.1411692
X-APPLE-STRUCTURED-LOCATION;VALUE=URI;X-ADDRESS=Women’s Med Center 1401 E. Stroop Road Kettering OH 45440;X-APPLE-RADIUS=500;X-TITLE=1401 E. Stroop Road:geo:-84.1411692,39.6891778
END:VEVENT
END:VCALENDAR