BEGIN:VCALENDAR
VERSION:2.0
PRODID:-//Archdiocese of Cincinnati - ECPv6.15.15//NONSGML v1.0//EN
CALSCALE:GREGORIAN
METHOD:PUBLISH
X-WR-CALNAME:Archdiocese of Cincinnati
X-ORIGINAL-URL:https://resources.catholicaoc.org
X-WR-CALDESC:Events for Archdiocese of Cincinnati
REFRESH-INTERVAL;VALUE=DURATION:PT1H
X-Robots-Tag:noindex
X-PUBLISHED-TTL:PT1H
BEGIN:VTIMEZONE
TZID:UTC
BEGIN:STANDARD
TZOFFSETFROM:+0000
TZOFFSETTO:+0000
TZNAME:UTC
DTSTART:20240101T000000
END:STANDARD
END:VTIMEZONE
BEGIN:VEVENT
DTSTART;TZID=UTC:20250527T080000
DTEND;TZID=UTC:20250530T170000
DTSTAMP:20260423T031812
CREATED:20250127T201806Z
LAST-MODIFIED:20250127T201806Z
UID:85623-1748332800-1748624400@resources.catholicaoc.org
SUMMARY:Cincinnati Safer Science Summit - Free for Teachers and Administrators
DESCRIPTION:2nd Annual Safer Science Summit and how it can benefit your Grades 6-12 STEAM teachers and school administration as they build their science safety programs. \nEvent Overview:\nThe SaferScience Summit is a multi-day immersive event designed to enhance the understanding of lab safety regulations and protocols within STEAM education environments. It will be held from May 27-30\, 2025\, at the University of Cincinnati\, targeting STEAM teachers and administrators in the Ohio\, Indiana\, and Kentucky tri-state area. CEUs and EILA credits are available for participants. \nAttached\, you will find the Summit Flyer\, which provides detailed information about the agenda and topics covered during the event – full agenda to be released in a few weeks. Registration is officially open – Cincinnati Safer Science Summit May 27-30\, 2025 – Lab Safety Institute. \nAction Requested:\nWe kindly ask you to forward this information to your STEAM teachers and administration to encourage their participation in the summit.
URL:https://resources.catholicaoc.org/event/cincinnati-safer-science-summit-free-for-teachers-and-administrators
LOCATION:University of Cincinnati\, Cincinnati\, OH\, United States
CATEGORIES:Catholic Schools Office
END:VEVENT
BEGIN:VEVENT
DTSTART;TZID=UTC:20250530T123000
DTEND;TZID=UTC:20250530T143000
DTSTAMP:20260423T031812
CREATED:20250528T115243Z
LAST-MODIFIED:20250528T115243Z
UID:91554-1748608200-1748615400@resources.catholicaoc.org
SUMMARY:SmART Tech: AI for Elective Educators
DESCRIPTION:Understand the basics of how AI tools work in an educational context. Learn how to craft and refine effective prompts for creative and instructional purposes.\nExplore AI platforms that align with the unique needs of music\, PE\, health\, and art educators.\nBrainstorm ways to integrate AI into their lesson planning\, classroom activities\, and assessments.\nCollaborate with peers to design an AI-enhanced resource or lesson idea tailored to their content area.\n\nRegister
URL:https://resources.catholicaoc.org/event/smart-tech-ai-for-elective-educators
LOCATION:Hamilton County ESC\, OH
CATEGORIES:Catholic Schools Office
GEO:39.2801727;-84.5650475
END:VEVENT
BEGIN:VEVENT
DTSTART;TZID=UTC:20250531T080000
DTEND;TZID=UTC:20250531T100000
DTSTAMP:20260423T031812
CREATED:20210106T165005Z
LAST-MODIFIED:20260203T195135Z
UID:71609-1748678400-1748685600@resources.catholicaoc.org
SUMMARY:Life's 5th Quarter
DESCRIPTION:The 5th Saturday of the month we will be offering up a Mass and Prayer Intentions for the women and workers at the Planned Parenthood Facility on Auburn Ave.  We will begin with Mass at Holy Name Catholic Church followed by Exposition\, a peaceful rosary procession to the nearby Planned Parenthood\, and then back to the church for Benediction.  YOUTH are ENCOURAGED to attend this event.  It will be geared towards our young people!
URL:https://resources.catholicaoc.org/event/lifes-5th-quarter/2025-05-31
LOCATION:Holy Name Catholic Church\, 2448 Auburn Ave\, Cincinnati\, Ohio\, 45219
CATEGORIES:Respect Life,March for Life
ATTACH;FMTTYPE=image/jpeg:https://resources.catholicaoc.org/wp-content/uploads/2021/01/13006721_1727350357505975_5409263376675937164_n.jpg
GEO:39.1264137;-84.5078401
X-APPLE-STRUCTURED-LOCATION;VALUE=URI;X-ADDRESS=Holy Name Catholic Church 2448 Auburn Ave Cincinnati Ohio 45219;X-APPLE-RADIUS=500;X-TITLE=2448 Auburn Ave:geo:-84.5078401,39.1264137
END:VEVENT
BEGIN:VEVENT
DTSTART;TZID=UTC:20250531T090000
DTEND;TZID=UTC:20250531T100000
DTSTAMP:20260423T031812
CREATED:20210209T170056Z
LAST-MODIFIED:20210209T170056Z
UID:103314-1748682000-1748685600@resources.catholicaoc.org
SUMMARY:Saturday Pro-Life Rosary Procession
DESCRIPTION:Gather at 9:00 a.m. every Saturday at Holy Name Church on Auburn Avenue\, followed by a rosary procession to Planned Parenthood.  For more info\, contact the Franciscan Daughters of Mary at hnchapelfdn@gmail.com. \n 
URL:https://resources.catholicaoc.org/event/saturday-pro-life-prayer-vigil/2025-05-31
LOCATION:Holy Name Catholic Church\, 2448 Auburn Ave\, Cincinnati\, Ohio\, 45219
CATEGORIES:Respect Life,March for Life
ATTACH;FMTTYPE=image/jpeg:https://resources.catholicaoc.org/wp-content/uploads/2021/02/40-Days-Img-3_22.jpg
GEO:39.1264137;-84.5078401
X-APPLE-STRUCTURED-LOCATION;VALUE=URI;X-ADDRESS=Holy Name Catholic Church 2448 Auburn Ave Cincinnati Ohio 45219;X-APPLE-RADIUS=500;X-TITLE=2448 Auburn Ave:geo:-84.5078401,39.1264137
END:VEVENT
BEGIN:VEVENT
DTSTART;TZID=UTC:20250531T090000
DTEND;TZID=UTC:20250531T120000
DTSTAMP:20260423T031812
CREATED:20250507T161245Z
LAST-MODIFIED:20250507T161245Z
UID:90802-1748682000-1748692800@resources.catholicaoc.org
SUMMARY:Sidewalk Advocates Training
DESCRIPTION:Save Lives.  Help Women. \nGet trained to sidewalk counsel! \nAdvocates For Life Training Day RSVP Form 5/31
URL:https://resources.catholicaoc.org/event/sidewalk-advocates-training
LOCATION:2406 Auburn Avenue\, Cincinnati\, OH\, 45219\, United States
CATEGORIES:Respect Life
ATTACH;FMTTYPE=image/png:https://resources.catholicaoc.org/wp-content/uploads/2025/05/CINCINNATI-RTL.png
GEO:39.1258242;-84.5081275
END:VEVENT
BEGIN:VEVENT
DTSTART;TZID=UTC:20250531T092000
DTEND;TZID=UTC:20250531T100000
DTSTAMP:20260423T031812
CREATED:20240528T153530Z
LAST-MODIFIED:20240528T153530Z
UID:73977-1748683200-1748685600@resources.catholicaoc.org
SUMMARY:Rosary for Life
DESCRIPTION:Prayer\, Praise & Scripture\, Wednesdays at 11 AM \nRosary every Wednesday at 12 Noon \nRosary every Saturday at 9:20 AM
URL:https://resources.catholicaoc.org/event/rosary-for-life-3/2025-05-31
LOCATION:Women’s Med Center\, 1401 E. Stroop Road\, Kettering\, OH\, 45440
CATEGORIES:Respect Life,March for Life
ATTACH;FMTTYPE=image/jpeg:https://resources.catholicaoc.org/wp-content/uploads/2020/05/the-rosary-4978473_1920-e1714669990677.jpg
GEO:39.6891778;-84.1411692
X-APPLE-STRUCTURED-LOCATION;VALUE=URI;X-ADDRESS=Women’s Med Center 1401 E. Stroop Road Kettering OH 45440;X-APPLE-RADIUS=500;X-TITLE=1401 E. Stroop Road:geo:-84.1411692,39.6891778
END:VEVENT
BEGIN:VEVENT
DTSTART;TZID=UTC:20250531T093000
DTEND;TZID=UTC:20250531T170000
DTSTAMP:20260423T031812
CREATED:20250501T134546Z
LAST-MODIFIED:20250501T134546Z
UID:90490-1748683800-1748710800@resources.catholicaoc.org
SUMMARY:Project Rachel Day of Prayer and Healing
DESCRIPTION:This event is open to any woman who has lost a child to abortion. The day of Prayer and Healing will provide a safe and confidential space for women to share their experiences\, reflect on their past\, and offer their futures to Christ; who makes all things new. A trained priest\, licensed mental health counselor\, and volunteer who has found healing after abortion\, will be present to accompany participants. The event is open to women of all faith backgrounds or no faith background. click HERE.
URL:https://resources.catholicaoc.org/event/project-rachel-day-of-prayer-and-healing
CATEGORIES:Respect Life,Project Rachel
END:VEVENT
BEGIN:VEVENT
DTSTART;TZID=UTC:20250531T140000
DTEND;TZID=UTC:20250531T170000
DTSTAMP:20260423T031812
CREATED:20250514T130652Z
LAST-MODIFIED:20250514T130652Z
UID:91062-1748700000-1748710800@resources.catholicaoc.org
SUMMARY:Weekend Mass Schedule:  Every Weekend (Saturday)
DESCRIPTION:Confession (ASL):  2:00 p.m. \nCatechism (ASL):  2:15 p\,m\, \nMass (ASL):  3:00 p\,m. \nFellowship after Mass \nYou are highly welcome! \nEmail Fr. Charles your questions and concerns.
URL:https://resources.catholicaoc.org/event/weekend-mass-schedule-every-weekend-saturday-10
LOCATION:St. Christopher\, 435 East National Rd\, Vandalia\, Ohio\, 45377
CATEGORIES:Deaf Ministry
GEO:39.8922645;-84.1911098
X-APPLE-STRUCTURED-LOCATION;VALUE=URI;X-ADDRESS=St. Christopher 435 East National Rd Vandalia Ohio 45377;X-APPLE-RADIUS=500;X-TITLE=435 East National Rd:geo:-84.1911098,39.8922645
END:VEVENT
BEGIN:VEVENT
DTSTART;TZID=UTC:20250601T093000
DTEND;TZID=UTC:20250601T130000
DTSTAMP:20260423T031812
CREATED:20250521T102854Z
LAST-MODIFIED:20250521T102854Z
UID:91227-1748770200-1748782800@resources.catholicaoc.org
SUMMARY:Deaf Community Mass  *Every Sunday"
DESCRIPTION:Confessions: 9:30 a.m. \nCatechism Class:  10:00 a.m. \nMass and Fellowship:  10:30 a.m. \nYou are highly welcome! \nEmail Fr. Charles with your questions and concerns.
URL:https://resources.catholicaoc.org/event/deaf-community-mass-every-sunday-8/2025-06-01
LOCATION:St. Rita School for the Deaf\, 1720 Glendale Milford Rd\, Cincinnati\, OH\, 45215\, United States
CATEGORIES:Deaf Ministry
GEO:39.256157;-84.4451629
X-APPLE-STRUCTURED-LOCATION;VALUE=URI;X-ADDRESS=St. Rita School for the Deaf 1720 Glendale Milford Rd Cincinnati OH 45215 United States;X-APPLE-RADIUS=500;X-TITLE=1720 Glendale Milford Rd:geo:-84.4451629,39.256157
END:VEVENT
BEGIN:VEVENT
DTSTART;TZID=UTC:20250601T100000
DTEND;TZID=UTC:20250601T110000
DTSTAMP:20260423T031812
CREATED:20250424T110127Z
LAST-MODIFIED:20250425T164351Z
UID:90154-1748772000-1748775600@resources.catholicaoc.org
SUMMARY:Eucharistic Year of Mission
DESCRIPTION:On June 1st\, 2025\, the Solemnity of the Ascension of the Lord\, we are asking parishes to celebrate the Eucharistic Year of Mission. The Year of Mission began at the conclusion of the Eucharistic Congress in Indianapolis last summer and it ends at Pentecost this year.  A Mass of Celebration in the Year of Mission is taking place on June 1\, 2025 at 10am at the Cathedral Basilica of St. Peter in Chains. \nClick here for more information on how to celebrate this day. \nClick here for more information on the Year of Mission. \n  \n  \n 
URL:https://resources.catholicaoc.org/event/eucharistic-year-of-mission-2
LOCATION:St. Peter in Chains Cathedral Basilica\, 325 W 8th St\, Cincinnati\, OH\, 45202\, United States
CATEGORIES:Respect Life,Office for Persons with Disabilities,Deaf Ministry
ATTACH;FMTTYPE=image/jpeg:https://resources.catholicaoc.org/wp-content/uploads/2024/05/Serve-1-scaled-e1745599406632.jpg
GEO:39.103518;-84.5195591
X-APPLE-STRUCTURED-LOCATION;VALUE=URI;X-ADDRESS=St. Peter in Chains Cathedral Basilica 325 W 8th St Cincinnati OH 45202 United States;X-APPLE-RADIUS=500;X-TITLE=325 W 8th St:geo:-84.5195591,39.103518
END:VEVENT
BEGIN:VEVENT
DTSTART;TZID=UTC:20250601T123000
DTEND;TZID=UTC:20250601T133000
DTSTAMP:20260423T031812
CREATED:20250528T142106Z
LAST-MODIFIED:20260325T154627Z
UID:91583-1748781000-1748784600@resources.catholicaoc.org
SUMMARY:Sensory Friendly and ASL Mass
DESCRIPTION:In an effort to embrace and welcome the members of the Deaf Community\, as well as those with Autism\, Down Syndrome\, and other intellectual and developmental disabilities\, all our welcome to this Sensory Friendly and ASL Mass where there will be lower lighting\, no music and a shorter homily. At St. John Fisher every first Sunday at 12:30 p.m. For more information on what a sensory friendly mass is click HERE. \n  \n 
URL:https://resources.catholicaoc.org/event/sensory-friendly-and-asl-mass/2025-06-01
LOCATION:St. John Fisher\, 3227 Church St.\, Newtown\, OH\, 45244\, United States
CATEGORIES:Respect Life,Office for Persons with Disabilities,Deaf Ministry
ATTACH;FMTTYPE=image/png:https://resources.catholicaoc.org/wp-content/uploads/2025/05/sensory-friendsly-mass-small.png
GEO:39.119281;-84.3664161
X-APPLE-STRUCTURED-LOCATION;VALUE=URI;X-ADDRESS=St. John Fisher 3227 Church St. Newtown OH 45244 United States;X-APPLE-RADIUS=500;X-TITLE=3227 Church St.:geo:-84.3664161,39.119281
END:VEVENT
BEGIN:VEVENT
DTSTART;TZID=UTC:20250601T130000
DTEND;TZID=UTC:20250601T160000
DTSTAMP:20260423T031812
CREATED:20230505T165026Z
LAST-MODIFIED:20250430T153735Z
UID:56438-1748782800-1748793600@resources.catholicaoc.org
SUMMARY:Cross the Bridge for Life
DESCRIPTION:Join the Greater Cincinnati Coalition for Life for the annual family-friendly Cross the Bridge for Life! For the first time this event will take place on SUNDAY June 1st. The event begins at 1pm at Riverfront Park. There will be face painting\, free food\, desserts to purchase\, live music\, and dozens of ministries to explore. The Walk begins at 2pm. Opening Prayer will by led by Archbishop Robert Casey. For information click HERE.
URL:https://resources.catholicaoc.org/event/cross-the-bridge-for-life
LOCATION:Riverfront Park\, Riverboat Row\, Newport\, OH\, 41071\, United States
CATEGORIES:Respect Life,Office for Persons with Disabilities,Deaf Ministry
ATTACH;FMTTYPE=image/jpeg:https://resources.catholicaoc.org/wp-content/uploads/2023/05/cross-the-bridge.jpg
GEO:39.0955834;-84.4971122
X-APPLE-STRUCTURED-LOCATION;VALUE=URI;X-ADDRESS=Riverfront Park Riverboat Row Newport OH 41071 United States;X-APPLE-RADIUS=500;X-TITLE=Riverboat Row:geo:-84.4971122,39.0955834
END:VEVENT
END:VCALENDAR