BEGIN:VCALENDAR
VERSION:2.0
PRODID:-//Archdiocese of Cincinnati - ECPv6.15.15//NONSGML v1.0//EN
CALSCALE:GREGORIAN
METHOD:PUBLISH
X-WR-CALNAME:Archdiocese of Cincinnati
X-ORIGINAL-URL:https://resources.catholicaoc.org
X-WR-CALDESC:Events for Archdiocese of Cincinnati
REFRESH-INTERVAL;VALUE=DURATION:PT1H
X-Robots-Tag:noindex
X-PUBLISHED-TTL:PT1H
BEGIN:VTIMEZONE
TZID:UTC
BEGIN:STANDARD
TZOFFSETFROM:+0000
TZOFFSETTO:+0000
TZNAME:UTC
DTSTART:20250101T000000
END:STANDARD
END:VTIMEZONE
BEGIN:VEVENT
DTSTART;TZID=UTC:20260601T090000
DTEND;TZID=UTC:20260601T113000
DTSTAMP:20260422T004605
CREATED:20251218T190017Z
LAST-MODIFIED:20251222T152756Z
UID:100500-1780304400-1780313400@resources.catholicaoc.org
SUMMARY:MAP EOY Data Review and Planning
DESCRIPTION:
URL:https://resources.catholicaoc.org/event/map-eoy-data-review-and-planning
LOCATION:Hamilton County ESC\, OH
CATEGORIES:Catholic Schools Office
GEO:39.2801727;-84.5650475
END:VEVENT
BEGIN:VEVENT
DTSTART;TZID=UTC:20260605T083000
DTEND;TZID=UTC:20260605T163000
DTSTAMP:20260422T004605
CREATED:20260320T113225Z
LAST-MODIFIED:20260406T153544Z
UID:105853-1780648200-1780677000@resources.catholicaoc.org
SUMMARY:Ember Day - June 5
DESCRIPTION:The seminarians and vocation director of the Archdiocese of Cincinnati are hosting the Ember Day retreat for high school men\, aged 15-19. The day will include Mass with Archbishop Schnurr\, a tour of the seminary\, prayer\, sports\, talks\, activities\, and food! This is an exciting opportunity for high school men to see the seminary\, meet the seminarians and learn more about vocation\, discernment\, and priesthood.\nIn addition to this online RSVP\, every participant will need to print and have a parent or guardian sign this permission form\, and bring the form to the event:  \n\nEnglish Permission Form\nSpanish Permission Form\n\nLocation: \nMount St. Mary’s Seminary\n6616 Beechmont Avenue\nCincinnati\, OH 45230
URL:https://resources.catholicaoc.org/event/ember-day-june-5
LOCATION:Mount St. Mary’s Seminary\, 6616 Beechmont Ave.\, Cincinnati\, OH\, 45230\, United States
CATEGORIES:Vocations
ATTACH;FMTTYPE=image/jpeg:https://resources.catholicaoc.org/wp-content/uploads/2026/03/Ember-Day-Photo.jpg
ORGANIZER;CN="Fr. Michael Willig":MAILTO:vocations@catholicaoc.org
GEO:39.0829791;-84.3718985
X-APPLE-STRUCTURED-LOCATION;VALUE=URI;X-ADDRESS=Mount St. Mary’s Seminary 6616 Beechmont Ave. Cincinnati OH 45230 United States;X-APPLE-RADIUS=500;X-TITLE=6616 Beechmont Ave.:geo:-84.3718985,39.0829791
END:VEVENT
BEGIN:VEVENT
DTSTART;TZID=UTC:20260605T090000
DTEND;TZID=UTC:20260605T113000
DTSTAMP:20260422T004605
CREATED:20251218T185927Z
LAST-MODIFIED:20251218T185927Z
UID:100498-1780650000-1780659000@resources.catholicaoc.org
SUMMARY:i-Ready EOY Data Review and Planning
DESCRIPTION:
URL:https://resources.catholicaoc.org/event/i-ready-eoy-data-review-and-planning
LOCATION:OH
CATEGORIES:Catholic Schools Office
END:VEVENT
BEGIN:VEVENT
DTSTART;TZID=UTC:20260606T090000
DTEND;TZID=UTC:20260606T100000
DTSTAMP:20260422T004605
CREATED:20210209T170056Z
LAST-MODIFIED:20210209T170056Z
UID:103367-1780736400-1780740000@resources.catholicaoc.org
SUMMARY:Saturday Pro-Life Rosary Procession
DESCRIPTION:Gather at 9:00 a.m. every Saturday at Holy Name Church on Auburn Avenue\, followed by a rosary procession to Planned Parenthood.  For more info\, contact the Franciscan Daughters of Mary at hnchapelfdn@gmail.com. \n 
URL:https://resources.catholicaoc.org/event/saturday-pro-life-prayer-vigil-2026-05-30/2026-06-06
LOCATION:Holy Name Catholic Church\, 2448 Auburn Ave\, Cincinnati\, Ohio\, 45219
CATEGORIES:Respect Life,March for Life
ATTACH;FMTTYPE=image/jpeg:https://resources.catholicaoc.org/wp-content/uploads/2021/02/40-Days-Img-3_22.jpg
GEO:39.1264137;-84.5078401
X-APPLE-STRUCTURED-LOCATION;VALUE=URI;X-ADDRESS=Holy Name Catholic Church 2448 Auburn Ave Cincinnati Ohio 45219;X-APPLE-RADIUS=500;X-TITLE=2448 Auburn Ave:geo:-84.5078401,39.1264137
END:VEVENT
BEGIN:VEVENT
DTSTART;TZID=UTC:20260606T090000
DTEND;TZID=UTC:20260606T100000
DTSTAMP:20260422T004605
CREATED:20250710T131951Z
LAST-MODIFIED:20260317T174728Z
UID:93578-1780736400-1780740000@resources.catholicaoc.org
SUMMARY:Sacrament of Reconciliation
DESCRIPTION:My beloved Deaf friends\,\n\n\nI warmly invite you to experience the healing grace of God’s mercy through the Sacrament of Reconciliation. Whether it has been a while or a regular part of your spiritual journey\, this is a sacred opportunity to renew your heart and soul.\n\nThis will be held on the first and third Saturday of every month.\n\n\n“If we confess our sins\, He is faithful and just to forgive you…” 1 John 1:9”\n\n\n\nFr. Charles M. Onumaegbu\nChaplain for the Deaf Ministry
URL:https://resources.catholicaoc.org/event/sacrament-of-reconciliation/2026-06-06
LOCATION:Church of the Incarnation\, 55 Williamsburg Lane\, Dayton\, OH\, 45459\, United States
CATEGORIES:Office for Persons with Disabilities,Deaf Ministry
ATTACH;FMTTYPE=image/jpeg:https://resources.catholicaoc.org/wp-content/uploads/2025/07/Confessional-e1773768797320.jpg
GEO:39.6354011;-84.1607091
X-APPLE-STRUCTURED-LOCATION;VALUE=URI;X-ADDRESS=Church of the Incarnation 55 Williamsburg Lane Dayton OH 45459 United States;X-APPLE-RADIUS=500;X-TITLE=55 Williamsburg Lane:geo:-84.1607091,39.6354011
END:VEVENT
BEGIN:VEVENT
DTSTART;TZID=UTC:20260606T092000
DTEND;TZID=UTC:20260606T100000
DTSTAMP:20260422T004605
CREATED:20240528T153530Z
LAST-MODIFIED:20240528T153530Z
UID:74641-1780737600-1780740000@resources.catholicaoc.org
SUMMARY:Rosary for Life
DESCRIPTION:Prayer\, Praise & Scripture\, Wednesdays at 11 AM \nRosary every Wednesday at 12 Noon \nRosary every Saturday at 9:20 AM
URL:https://resources.catholicaoc.org/event/rosary-for-life-3/2026-06-06
LOCATION:Women’s Med Center\, 1401 E. Stroop Road\, Kettering\, OH\, 45440
CATEGORIES:Respect Life,March for Life
ATTACH;FMTTYPE=image/jpeg:https://resources.catholicaoc.org/wp-content/uploads/2020/05/the-rosary-4978473_1920-e1714669990677.jpg
GEO:39.6891778;-84.1411692
X-APPLE-STRUCTURED-LOCATION;VALUE=URI;X-ADDRESS=Women’s Med Center 1401 E. Stroop Road Kettering OH 45440;X-APPLE-RADIUS=500;X-TITLE=1401 E. Stroop Road:geo:-84.1411692,39.6891778
END:VEVENT
BEGIN:VEVENT
DTSTART;TZID=UTC:20260606T140000
DTEND;TZID=UTC:20260606T160000
DTSTAMP:20260422T004605
CREATED:20240629T012550Z
LAST-MODIFIED:20260311T175506Z
UID:105153-1780754400-1780761600@resources.catholicaoc.org
SUMMARY:Deaf Community Mass
DESCRIPTION:Weekly Mass and Confessions at St. Christopher’s in Van Dalia \n2:00 Confession \n2:15 Catechism \n3:00 Mass & Fellowship \n*All are welcome. Mass in ASL with speech interpreters.
URL:https://resources.catholicaoc.org/event/mass-and-deaf-community-meeting/2026-06-06
LOCATION:St. Christopher\, 435 East National Rd\, Vandalia\, Ohio\, 45377
CATEGORIES:Office for Persons with Disabilities,Deaf Ministry
ATTACH;FMTTYPE=image/jpeg:https://resources.catholicaoc.org/wp-content/uploads/2026/01/Screenshot_20260126_193202_Gallery-e1769695622555.jpg
GEO:39.8922645;-84.1911098
X-APPLE-STRUCTURED-LOCATION;VALUE=URI;X-ADDRESS=St. Christopher 435 East National Rd Vandalia Ohio 45377;X-APPLE-RADIUS=500;X-TITLE=435 East National Rd:geo:-84.1911098,39.8922645
END:VEVENT
BEGIN:VEVENT
DTSTART;TZID=UTC:20260607T093000
DTEND;TZID=UTC:20260607T113000
DTSTAMP:20260422T004605
CREATED:20260311T133611Z
LAST-MODIFIED:20260317T175012Z
UID:104961-1780824600-1780831800@resources.catholicaoc.org
SUMMARY:Deaf Community Mass
DESCRIPTION:Weekly Mass and Confessions at St. Rita’s School for the Deaf \n9:30 Confession \n10:00 Catechism \n10:30 Mass & Fellowship \n*All are welcome. Mass in ASL (no interpreters)
URL:https://resources.catholicaoc.org/event/deaf-community-mass-3/2026-06-07
LOCATION:St. Rita School for the Deaf\, 1720 Glendale Milford Rd\, Cincinnati\, OH\, 45215\, United States
CATEGORIES:Respect Life,Office for Persons with Disabilities,Deaf Ministry
ATTACH;FMTTYPE=image/jpeg:https://resources.catholicaoc.org/wp-content/uploads/2026/03/St-Ritas-AB-Casey.jpg
GEO:39.256157;-84.4451629
X-APPLE-STRUCTURED-LOCATION;VALUE=URI;X-ADDRESS=St. Rita School for the Deaf 1720 Glendale Milford Rd Cincinnati OH 45215 United States;X-APPLE-RADIUS=500;X-TITLE=1720 Glendale Milford Rd:geo:-84.4451629,39.256157
END:VEVENT
END:VCALENDAR