BEGIN:VCALENDAR
VERSION:2.0
PRODID:-//Archdiocese of Cincinnati - ECPv6.15.15//NONSGML v1.0//EN
CALSCALE:GREGORIAN
METHOD:PUBLISH
X-ORIGINAL-URL:https://resources.catholicaoc.org
X-WR-CALDESC:Events for Archdiocese of Cincinnati
REFRESH-INTERVAL;VALUE=DURATION:PT1H
X-Robots-Tag:noindex
X-PUBLISHED-TTL:PT1H
BEGIN:VTIMEZONE
TZID:UTC
BEGIN:STANDARD
TZOFFSETFROM:+0000
TZOFFSETTO:+0000
TZNAME:UTC
DTSTART:20200101T000000
END:STANDARD
END:VTIMEZONE
BEGIN:VEVENT
DTSTART;TZID=UTC:20211003T140000
DTEND;TZID=UTC:20211003T150000
DTSTAMP:20260423T034902
CREATED:20210831T160754Z
LAST-MODIFIED:20210831T160754Z
UID:31890-1633269600-1633273200@resources.catholicaoc.org
SUMMARY:Champaign County Life Chain
DESCRIPTION:Champaign County Right to Life will rally pro-lifers for Life Chain on Monument Square in Urbana. \nTo participate as a group or individual(s) contact David George with any questions or concerns at david.george@ctcn.net
URL:https://resources.catholicaoc.org/event/champaign-county-life-chain
LOCATION:Monument Square\, 33 Monument Square\, Urbana\, Ohio\, 43078
CATEGORIES:Respect Life
ATTACH;FMTTYPE=image/jpeg:https://resources.catholicaoc.org/wp-content/uploads/2021/08/Gen-Life-Chain-e1630423924923.jpg
ORGANIZER;CN="David George":MAILTO:david.george@ctcn.net
GEO:40.1077781;-83.7528772
X-APPLE-STRUCTURED-LOCATION;VALUE=URI;X-ADDRESS=Monument Square 33 Monument Square Urbana Ohio 43078;X-APPLE-RADIUS=500;X-TITLE=33 Monument Square:geo:-83.7528772,40.1077781
END:VEVENT
END:VCALENDAR