BEGIN:VCALENDAR
VERSION:2.0
PRODID:-//Archdiocese of Cincinnati - ECPv6.15.15//NONSGML v1.0//EN
CALSCALE:GREGORIAN
METHOD:PUBLISH
X-WR-CALNAME:Archdiocese of Cincinnati
X-ORIGINAL-URL:https://resources.catholicaoc.org
X-WR-CALDESC:Events for Archdiocese of Cincinnati
REFRESH-INTERVAL;VALUE=DURATION:PT1H
X-Robots-Tag:noindex
X-PUBLISHED-TTL:PT1H
BEGIN:VTIMEZONE
TZID:UTC
BEGIN:STANDARD
TZOFFSETFROM:+0000
TZOFFSETTO:+0000
TZNAME:UTC
DTSTART:20230101T000000
END:STANDARD
END:VTIMEZONE
BEGIN:VEVENT
DTSTART;TZID=UTC:20241006T140000
DTEND;TZID=UTC:20241006T150000
DTSTAMP:20260419T204426
CREATED:20241001T072107Z
LAST-MODIFIED:20241001T153520Z
UID:80881-1728223200-1728226800@resources.catholicaoc.org
SUMMARY:Respect Life Sunday Life Chain (Hamilton)
DESCRIPTION:Butler County Right to Life invites the pro-life community to the 27th annual Life Chain. Stand with thousands of pro-life individuals throughout the USA and Canada in honor of millions of babies whose lives have been lost to abortion. Pray for people in crisis situations and for our nations. \n♦ You will be a light in a darkened world as you help put an end to abortion through prayer!\n♦ Bring your whole family!\n♦ Water\, lawn chairs\, umbrellas and strollers are welcome and encouraged!\n♦ Rain or shine! Signs will be provided. \nTo be held in front of the Government Services Building. \nQUESTIONS: Email BCRTLOH@gmail.com\, our website\, or call Anne at (513) 777-2792. \n 
URL:https://resources.catholicaoc.org/event/butler-county-right-to-life-invites-the-pro-life-community-to-the-37th-annual-life-chain
LOCATION:345 High Street\,  Hamilton\, OH  45011\, 345 High Street\, Hamilton\, OH\, 45011\, United States
CATEGORIES:Respect Life
ATTACH;FMTTYPE=image/jpeg:https://resources.catholicaoc.org/wp-content/uploads/2024/10/Life-Chain.jpg
GEO:39.3984276;-84.5595217
X-APPLE-STRUCTURED-LOCATION;VALUE=URI;X-ADDRESS=345 High Street  Hamilton OH  45011 345 High Street Hamilton OH 45011 United States;X-APPLE-RADIUS=500;X-TITLE=345 High Street:geo:-84.5595217,39.3984276
END:VEVENT
END:VCALENDAR