BEGIN:VCALENDAR
VERSION:2.0
PRODID:-//Archdiocese of Cincinnati - ECPv6.15.15//NONSGML v1.0//EN
CALSCALE:GREGORIAN
METHOD:PUBLISH
X-WR-CALNAME:Archdiocese of Cincinnati
X-ORIGINAL-URL:https://resources.catholicaoc.org
X-WR-CALDESC:Events for Archdiocese of Cincinnati
REFRESH-INTERVAL;VALUE=DURATION:PT1H
X-Robots-Tag:noindex
X-PUBLISHED-TTL:PT1H
BEGIN:VTIMEZONE
TZID:UTC
BEGIN:STANDARD
TZOFFSETFROM:+0000
TZOFFSETTO:+0000
TZNAME:UTC
DTSTART:20230101T000000
END:STANDARD
END:VTIMEZONE
BEGIN:VEVENT
DTSTART;TZID=UTC:20241006T140000
DTEND;TZID=UTC:20241006T150000
DTSTAMP:20260420T095609
CREATED:20240923T142731Z
LAST-MODIFIED:20241001T153800Z
UID:80304-1728223200-1728226800@resources.catholicaoc.org
SUMMARY:Respect Life Sunday Life Chain (Troy)
DESCRIPTION:Join us for Sunday\, Oct. 6\, from 2:00 – 3:00 near the Court House on West Main St. in Troy for just one hour of your time for prayer and to show your support for the LIFE of the unborn\, the young\, the disabled\, the handicapped\, the ill and the elderly.  We will have our normal Life Chain signs for participants to hold.  For any questions\, please call Dave Enneking 937-726-7299.
URL:https://resources.catholicaoc.org/event/life-chain-event
LOCATION:Court House Troy OH\, West Main Street\, Troy\, Ohio\, 45373\, United States
CATEGORIES:Respect Life,March for Life
ATTACH;FMTTYPE=image/jpeg:https://resources.catholicaoc.org/wp-content/uploads/2024/09/Life-Chain.jpg
GEO:40.041179;-84.205266
X-APPLE-STRUCTURED-LOCATION;VALUE=URI;X-ADDRESS=Court House Troy OH West Main Street Troy Ohio 45373 United States;X-APPLE-RADIUS=500;X-TITLE=West Main Street:geo:-84.205266,40.041179
END:VEVENT
END:VCALENDAR