BEGIN:VCALENDAR
VERSION:2.0
PRODID:-//Archdiocese of Cincinnati - ECPv6.15.15//NONSGML v1.0//EN
CALSCALE:GREGORIAN
METHOD:PUBLISH
X-WR-CALNAME:Archdiocese of Cincinnati
X-ORIGINAL-URL:https://resources.catholicaoc.org
X-WR-CALDESC:Events for Archdiocese of Cincinnati
REFRESH-INTERVAL;VALUE=DURATION:PT1H
X-Robots-Tag:noindex
X-PUBLISHED-TTL:PT1H
BEGIN:VTIMEZONE
TZID:UTC
BEGIN:STANDARD
TZOFFSETFROM:+0000
TZOFFSETTO:+0000
TZNAME:UTC
DTSTART:20210101T000000
END:STANDARD
END:VTIMEZONE
BEGIN:VEVENT
DTSTART;TZID=UTC:20220517T080000
DTEND;TZID=UTC:20220517T153000
DTSTAMP:20260419T231751
CREATED:20220427T175338Z
LAST-MODIFIED:20220427T175338Z
UID:42012-1652774400-1652801400@resources.catholicaoc.org
SUMMARY:Adopt evidence-based practices for effective instructional leadership
DESCRIPTION: \n\n\n\n\n\n\n\n\n\n\n\n\nGain new tools for supporting the instructional focus and initiatives designed to support learning at your school at the How Leadership Works Institute! \nThis professional learning event will support you and your team in clarifying\, articulating\, and actualizing instructional leadership goals in order to ensure the greatest outcomes for both staff and students! Join Cathy Lassiter and Douglas Fisher in exploring: \n\nMindframes for leading teaching\, learning\, and change\nEvidence-based instructional leadership\nStudent clarity and engagement\nHow to foster a learning-focused school culture\nPractices of successful change agents\n\nREGISTER\n\n\n\n\n\n\n\n\n\n\n\n\n \n\n\n\n  \n 
URL:https://resources.catholicaoc.org/event/adopt-evidence-based-practices-for-effective-instructional-leadership
LOCATION:Hilton Akron Fairlawn Hotel & Suites\, 3180 West Market Street\, Akron\, OH\, 44333\, United States
CATEGORIES:Catholic Schools Office
GEO:41.1310367;-81.6159758
X-APPLE-STRUCTURED-LOCATION;VALUE=URI;X-ADDRESS=Hilton Akron Fairlawn Hotel & Suites 3180 West Market Street Akron OH 44333 United States;X-APPLE-RADIUS=500;X-TITLE=3180 West Market Street:geo:-81.6159758,41.1310367
END:VEVENT
END:VCALENDAR