BEGIN:VCALENDAR
VERSION:2.0
PRODID:-//Archdiocese of Cincinnati - ECPv6.15.15//NONSGML v1.0//EN
CALSCALE:GREGORIAN
METHOD:PUBLISH
X-WR-CALNAME:Archdiocese of Cincinnati
X-ORIGINAL-URL:https://resources.catholicaoc.org
X-WR-CALDESC:Events for Archdiocese of Cincinnati
REFRESH-INTERVAL;VALUE=DURATION:PT1H
X-Robots-Tag:noindex
X-PUBLISHED-TTL:PT1H
BEGIN:VTIMEZONE
TZID:UTC
BEGIN:STANDARD
TZOFFSETFROM:+0000
TZOFFSETTO:+0000
TZNAME:UTC
DTSTART:20210101T000000
END:STANDARD
END:VTIMEZONE
BEGIN:VEVENT
DTSTART;TZID=UTC:20221022T090000
DTEND;TZID=UTC:20221022T160000
DTSTAMP:20260421T041233
CREATED:20221007T183221Z
LAST-MODIFIED:20221007T183221Z
UID:48731-1666429200-1666454400@resources.catholicaoc.org
SUMMARY:Educator Inquiry Workshops
DESCRIPTION:Hefner Museum of Natural History at Miami University\, Oxford\, Ohio will present Educator Inquiry Workshops on Saturday\, October 22\, 2022. \nDuring these workshops\, educators will explore object-based learning strategies\, the power of incorporating real-world materials in their teaching\, and the role museums can play in providing STEAM-based resources for the classroom setting. Two sessions will be offered. \n  \nMorning Session for \nEducators Grades K-5 \nTime: 9am-12pm \nFocus: Ephemeral Ponds\, activities to immediately implement in the classroom and funding opportunities to obtain classroom resources \n  \nAfternoon Session for \nEducators Grades 6-12 \nTime: 1pm-4pm \nFocus: Microscopes and Nature\, types of magnification devices to use in the classroom and funding opportunities to obtain classroom resources. \n  \n\n3 Contact Hour CEU Certificate per session will be available for participants.\nParticipants may choose to attend one or both sessions.\nEach session is capped at 24 participants.\nPlease register at the following: Educator Inquiry Workshop Registration. *Or copy/paste the following url in your browser: https://forms.gle/gFVX1D2NPBKLg6RG7\n\n  \nProject materials will be provided. Teacher Grab Bags will be offered with free materials (posters\, teacher books\, guides and more). \nLight refreshments (no drinks) will be provided.  Participants are asked to bring their own water bottles. Hallway fountains are available. \nThis event is sponsored by the Ohio EPA Ohio Environmental Education Fund and the Hefner Museum of Natural History.  We look forward to hearing from you
URL:https://resources.catholicaoc.org/event/educator-inquiry-workshops
LOCATION:Miami University – Hefner Museum of Natural History\, 106 Upham Hall\, Oxford\, OH\, United States
CATEGORIES:Catholic Schools Office
GEO:39.5087305;-84.7336034
X-APPLE-STRUCTURED-LOCATION;VALUE=URI;X-ADDRESS=Miami University – Hefner Museum of Natural History 106 Upham Hall Oxford OH United States;X-APPLE-RADIUS=500;X-TITLE=106 Upham Hall:geo:-84.7336034,39.5087305
END:VEVENT
END:VCALENDAR