BEGIN:VCALENDAR
VERSION:2.0
PRODID:-//Archdiocese of Cincinnati - ECPv6.15.15//NONSGML v1.0//EN
CALSCALE:GREGORIAN
METHOD:PUBLISH
X-ORIGINAL-URL:https://resources.catholicaoc.org
X-WR-CALDESC:Events for Archdiocese of Cincinnati
REFRESH-INTERVAL;VALUE=DURATION:PT1H
X-Robots-Tag:noindex
X-PUBLISHED-TTL:PT1H
BEGIN:VTIMEZONE
TZID:UTC
BEGIN:STANDARD
TZOFFSETFROM:+0000
TZOFFSETTO:+0000
TZNAME:UTC
DTSTART:20190101T000000
END:STANDARD
END:VTIMEZONE
BEGIN:VEVENT
DTSTART;TZID=UTC:20240922T140000
DTEND;TZID=UTC:20240922T160000
DTSTAMP:20260425T205516
CREATED:20240904T140642Z
LAST-MODIFIED:20240904T140911Z
UID:79493-1727013600-1727020800@resources.catholicaoc.org
SUMMARY:Cincinnati Fall 2024 Rally
DESCRIPTION:The guest speaker will be Michelle Teska.  She will speak of the importance of acting on your principles even in difficult\ncircumstances. \nHer inspiring story will encourage you to step out in faith and commit to peaceful\, public prayer witness in from of our local Planned Parenthood throughout the fall 40 Days for Life Campaign. Join us and find out how you can bring the love of Christ to the sidewalk and play a part in closing our local Planned Parenthood. Bring your pastors\, friends and family. \nFor more information: www.40daysforlife.com/cincinnati \nClick here for flyer.
URL:https://resources.catholicaoc.org/event/cincinnati-fall-2024-rally
LOCATION:Planned Parenthood\, 2314 Auburn Ave\, Cincinnati\, OH\, 45219\, United States
CATEGORIES:Respect Life
ATTACH;FMTTYPE=image/jpeg:https://resources.catholicaoc.org/wp-content/uploads/2024/09/40-Days-for-Life-baby-e1750765656447.jpg
GEO:39.1237882;-84.5080449
X-APPLE-STRUCTURED-LOCATION;VALUE=URI;X-ADDRESS=Planned Parenthood 2314 Auburn Ave Cincinnati OH 45219 United States;X-APPLE-RADIUS=500;X-TITLE=2314 Auburn Ave:geo:-84.5080449,39.1237882
END:VEVENT
BEGIN:VEVENT
DTSTART;TZID=UTC:20240830T190000
DTEND;TZID=UTC:20240830T200000
DTSTAMP:20260425T205516
CREATED:20240629T010544Z
LAST-MODIFIED:20240629T010556Z
UID:75501-1725044400-1725048000@resources.catholicaoc.org
SUMMARY:Last Friday Prayer Outside Planned Parenthood
DESCRIPTION:Join 40 Days for Life from 7pm to 8pm outside Planned Parenthood on Auburn Ave. in Cincinnati in prayer to end abortion. Parking is available at Holy Name Church (2422 Auburn Ave). Contact Mary Clark with questions cincy40days@fuse.net. \n 
URL:https://resources.catholicaoc.org/event/last-friday-prayer-outside-planned-parenthood-2
LOCATION:Planned Parenthood\, 2314 Auburn Ave\, Cincinnati\, OH\, 45219\, United States
CATEGORIES:Respect Life
ATTACH;FMTTYPE=image/jpeg:https://resources.catholicaoc.org/wp-content/uploads/2024/06/40_days_for_life_logo.jpg
ORGANIZER;CN="40 Days for Life- Cincinnati":MAILTO:cincy40days@fuse.net
GEO:39.1237882;-84.5080449
X-APPLE-STRUCTURED-LOCATION;VALUE=URI;X-ADDRESS=Planned Parenthood 2314 Auburn Ave Cincinnati OH 45219 United States;X-APPLE-RADIUS=500;X-TITLE=2314 Auburn Ave:geo:-84.5080449,39.1237882
END:VEVENT
BEGIN:VEVENT
DTSTART;TZID=UTC:20240726T190000
DTEND;TZID=UTC:20240726T200000
DTSTAMP:20260425T205516
CREATED:20240629T010243Z
LAST-MODIFIED:20240629T010645Z
UID:75497-1722020400-1722024000@resources.catholicaoc.org
SUMMARY:Last Friday Prayer Outside Planned Parenthood
DESCRIPTION:Join 40 Days for Life from 7pm to 8pm outside Planned Parenthood on Auburn Ave. in Cincinnati in prayer to end abortion. Parking is available at Holy Name Church (2422 Auburn Ave). Contact Mary Clark with questions cincy40days@fuse.net. \n 
URL:https://resources.catholicaoc.org/event/last-friday-prayer-outside-planned-parenthood
LOCATION:Planned Parenthood\, 2314 Auburn Ave\, Cincinnati\, OH\, 45219\, United States
CATEGORIES:Respect Life
ATTACH;FMTTYPE=image/jpeg:https://resources.catholicaoc.org/wp-content/uploads/2024/06/40_days_for_life_logo.jpg
ORGANIZER;CN="40 Days for Life- Cincinnati":MAILTO:cincy40days@fuse.net
GEO:39.1237882;-84.5080449
X-APPLE-STRUCTURED-LOCATION;VALUE=URI;X-ADDRESS=Planned Parenthood 2314 Auburn Ave Cincinnati OH 45219 United States;X-APPLE-RADIUS=500;X-TITLE=2314 Auburn Ave:geo:-84.5080449,39.1237882
END:VEVENT
BEGIN:VEVENT
DTSTART;TZID=UTC:20210730T190000
DTEND;TZID=UTC:20210730T200000
DTSTAMP:20260425T205516
CREATED:20210728T201219Z
LAST-MODIFIED:20210728T201219Z
UID:30409-1627671600-1627675200@resources.catholicaoc.org
SUMMARY:Pro-Life Prayer Vigil
DESCRIPTION:Monthly Prayer Vigils \nJoin us as we witness to the community and pray that the lives of the innocent unborn are spared from abortion as well as for a change of heart for all those involved in the tragedy of the culture of death. You will be blessed for your efforts and strengthened in your spiritual journey. You never know who you might affect just by your presence. \nFamilies are welcome. Parking is available at Holy Name Catholic Church\, 2422 Auburn Ave.\, (two blocks from Planned Parenthood). Contact Brigid Duffy about additional parking. \nFurther information:  Brigid Duffy (513) 379-0821 or bswartz@fuse.net
URL:https://resources.catholicaoc.org/event/pro-life-prayer-vigil/2021-07-30
LOCATION:Planned Parenthood\, 2314 Auburn Ave\, Cincinnati\, OH\, 45219\, United States
CATEGORIES:Respect Life
ATTACH;FMTTYPE=image/jpeg:https://resources.catholicaoc.org/wp-content/uploads/2021/02/40-days-for-life.jpg
ORGANIZER;CN="40 Days for Life- Cincinnati":MAILTO:cincy40days@fuse.net
GEO:39.1237882;-84.5080449
X-APPLE-STRUCTURED-LOCATION;VALUE=URI;X-ADDRESS=Planned Parenthood 2314 Auburn Ave Cincinnati OH 45219 United States;X-APPLE-RADIUS=500;X-TITLE=2314 Auburn Ave:geo:-84.5080449,39.1237882
END:VEVENT
BEGIN:VEVENT
DTSTART;VALUE=DATE:20200226
DTEND;VALUE=DATE:20200406
DTSTAMP:20260425T205516
CREATED:20200309T181959Z
LAST-MODIFIED:20200329T212914Z
UID:120-1582675200-1586131199@resources.catholicaoc.org
SUMMARY:40 Days for Life Prayer Campaigns
DESCRIPTION:TAKE A STAND FOR LIFE\n\n\n\n\n\nFrom Wednesday\, February 26 to Sunday\, April 5\, our communities will again take part in 40 Days for Life … a coordinated\, international mobilization. Cincinnati area prayer campaigns take place at Planned Parenthood (2314 Auburn Ave) and Dayton prayer campaigns take place at the Women’s Medical Center in Kettering (1401 East Stroop Rd).  Go to  40daysforlife.com/ and find the local Cincinnati or Dayton event to sign up to pray!
URL:https://resources.catholicaoc.org/event/40-days-for-life-prayer-campaigns
LOCATION:Planned Parenthood\, 2314 Auburn Ave\, Cincinnati\, OH\, 45219\, United States
CATEGORIES:Communications
ATTACH;FMTTYPE=image/jpeg:https://resources.catholicaoc.org/wp-content/uploads/2020/03/rosary.jpg
GEO:39.1237882;-84.5080449
X-APPLE-STRUCTURED-LOCATION;VALUE=URI;X-ADDRESS=Planned Parenthood 2314 Auburn Ave Cincinnati OH 45219 United States;X-APPLE-RADIUS=500;X-TITLE=2314 Auburn Ave:geo:-84.5080449,39.1237882
END:VEVENT
END:VCALENDAR