BEGIN:VCALENDAR
VERSION:2.0
PRODID:-//Archdiocese of Cincinnati - ECPv6.15.15//NONSGML v1.0//EN
CALSCALE:GREGORIAN
METHOD:PUBLISH
X-WR-CALNAME:Archdiocese of Cincinnati
X-ORIGINAL-URL:https://resources.catholicaoc.org
X-WR-CALDESC:Events for Archdiocese of Cincinnati
REFRESH-INTERVAL;VALUE=DURATION:PT1H
X-Robots-Tag:noindex
X-PUBLISHED-TTL:PT1H
BEGIN:VTIMEZONE
TZID:UTC
BEGIN:STANDARD
TZOFFSETFROM:+0000
TZOFFSETTO:+0000
TZNAME:UTC
DTSTART:20190101T000000
END:STANDARD
END:VTIMEZONE
BEGIN:VEVENT
DTSTART;TZID=UTC:20200623T080000
DTEND;TZID=UTC:20200623T170000
DTSTAMP:20260422T212327
CREATED:20200612T173251Z
LAST-MODIFIED:20200612T173251Z
UID:6804-1592899200-1592931600@resources.catholicaoc.org
SUMMARY:Bridges To Life Graduation
DESCRIPTION:text
URL:https://resources.catholicaoc.org/event/bridges-to-life-graduation
LOCATION:St Mary of the Woods\, 34 St Mary-Of-The-Woods\,\, Sugar Creek Township\, IN\, 47876
CATEGORIES:Prison Ministry
ATTACH;FMTTYPE=image/png:https://resources.catholicaoc.org/wp-content/uploads/2020/05/BTL-Banner.png
GEO:39.5113782;-87.4696839
X-APPLE-STRUCTURED-LOCATION;VALUE=URI;X-ADDRESS=St Mary of the Woods 34 St Mary-Of-The-Woods Sugar Creek Township IN 47876;X-APPLE-RADIUS=500;X-TITLE=34 St Mary-Of-The-Woods\,:geo:-87.4696839,39.5113782
END:VEVENT
BEGIN:VEVENT
DTSTART;TZID=UTC:20200403T190000
DTEND;TZID=UTC:20200405T140000
DTSTAMP:20260422T212327
CREATED:20200327T203055Z
LAST-MODIFIED:20200327T203902Z
UID:470-1585940400-1586095200@resources.catholicaoc.org
SUMMARY:Come and See Weekend Retreat
DESCRIPTION:
URL:https://resources.catholicaoc.org/event/come-and-see-weekend-retreat
LOCATION:St Mary of the Woods\, 34 St Mary-Of-The-Woods\,\, Sugar Creek Township\, IN\, 47876
CATEGORIES:Communications
ORGANIZER;CN="Sister Joni":MAILTO:jluna@spsmw.org
GEO:39.5113782;-87.4696839
X-APPLE-STRUCTURED-LOCATION;VALUE=URI;X-ADDRESS=St Mary of the Woods 34 St Mary-Of-The-Woods Sugar Creek Township IN 47876;X-APPLE-RADIUS=500;X-TITLE=34 St Mary-Of-The-Woods\,:geo:-87.4696839,39.5113782
END:VEVENT
END:VCALENDAR